BEGIN:VCALENDAR
VERSION:2.0
PRODID:-//Middlebury Studio School - ECPv6.15.20//NONSGML v1.0//EN
CALSCALE:GREGORIAN
METHOD:PUBLISH
X-ORIGINAL-URL:https://middleburystudioschool.org
X-WR-CALDESC:Events for Middlebury Studio School
REFRESH-INTERVAL;VALUE=DURATION:PT1H
X-Robots-Tag:noindex
X-PUBLISHED-TTL:PT1H
BEGIN:VTIMEZONE
TZID:UTC
BEGIN:STANDARD
TZOFFSETFROM:+0000
TZOFFSETTO:+0000
TZNAME:UTC
DTSTART:20240101T000000
END:STANDARD
END:VTIMEZONE
BEGIN:VEVENT
DTSTART;TZID=UTC:20250216T140000
DTEND;TZID=UTC:20250216T200000
DTSTAMP:20260423T193109
CREATED:20250107T165629Z
LAST-MODIFIED:20250216T133133Z
UID:12777-1739714400-1739736000@middleburystudioschool.org
SUMMARY:Sunday - CANCELLED DUE TO WEATHER
DESCRIPTION:Studio hours are from 2-8pm.
URL:https://middleburystudioschool.org/event/sunday-104/
CATEGORIES:Sunday
END:VEVENT
END:VCALENDAR