BEGIN:VCALENDAR
VERSION:2.0
PRODID:-//Middlebury Studio School - ECPv6.15.20//NONSGML v1.0//EN
CALSCALE:GREGORIAN
METHOD:PUBLISH
X-WR-CALNAME:Middlebury Studio School
X-ORIGINAL-URL:https://middleburystudioschool.org
X-WR-CALDESC:Events for Middlebury Studio School
REFRESH-INTERVAL;VALUE=DURATION:PT1H
X-Robots-Tag:noindex
X-PUBLISHED-TTL:PT1H
BEGIN:VTIMEZONE
TZID:UTC
BEGIN:STANDARD
TZOFFSETFROM:+0000
TZOFFSETTO:+0000
TZNAME:UTC
DTSTART:20250101T000000
END:STANDARD
END:VTIMEZONE
BEGIN:VEVENT
DTSTART;TZID=UTC:20260423T120000
DTEND;TZID=UTC:20260423T143000
DTSTAMP:20260422T151211
CREATED:20260301T033842Z
LAST-MODIFIED:20260301T033842Z
UID:14170-1776945600-1776954600@middleburystudioschool.org
SUMMARY:Thursday
DESCRIPTION:Studio hours are from 12pm-2:30pm.
URL:https://middleburystudioschool.org/event/thursday-207/
CATEGORIES:Thursday
END:VEVENT
BEGIN:VEVENT
DTSTART;TZID=UTC:20260430T120000
DTEND;TZID=UTC:20260430T143000
DTSTAMP:20260422T151211
CREATED:20260301T034022Z
LAST-MODIFIED:20260301T034022Z
UID:14171-1777550400-1777559400@middleburystudioschool.org
SUMMARY:Thursday
DESCRIPTION:Studio hours are from 12pm-2:30pm.
URL:https://middleburystudioschool.org/event/thursday-208/
CATEGORIES:Thursday
END:VEVENT
BEGIN:VEVENT
DTSTART;TZID=UTC:20260507T000000
DTEND;TZID=UTC:20260507T143000
DTSTAMP:20260422T151211
CREATED:20260421T014703Z
LAST-MODIFIED:20260421T014703Z
UID:14393-1778112000-1778164200@middleburystudioschool.org
SUMMARY:Thursday
DESCRIPTION:Studio Hours are 12-2:30pm.
URL:https://middleburystudioschool.org/event/thursday-205/
CATEGORIES:Thursday
END:VEVENT
BEGIN:VEVENT
DTSTART;TZID=UTC:20260514T120000
DTEND;TZID=UTC:20260514T143000
DTSTAMP:20260422T151211
CREATED:20260421T014758Z
LAST-MODIFIED:20260421T014758Z
UID:14394-1778760000-1778769000@middleburystudioschool.org
SUMMARY:Thursday
DESCRIPTION:Studio Hours are 12-2:30pm.
URL:https://middleburystudioschool.org/event/thursday-209/
CATEGORIES:Thursday
END:VEVENT
BEGIN:VEVENT
DTSTART;TZID=UTC:20260521T120000
DTEND;TZID=UTC:20260521T143000
DTSTAMP:20260422T151211
CREATED:20260421T015010Z
LAST-MODIFIED:20260421T015010Z
UID:14395-1779364800-1779373800@middleburystudioschool.org
SUMMARY:Thursday
DESCRIPTION:Studio Hours are 12-2:30pm.
URL:https://middleburystudioschool.org/event/thursday-210/
CATEGORIES:Thursday
END:VEVENT
BEGIN:VEVENT
DTSTART;TZID=UTC:20260528T120000
DTEND;TZID=UTC:20260528T143000
DTSTAMP:20260422T151211
CREATED:20260421T015116Z
LAST-MODIFIED:20260421T015116Z
UID:14396-1779969600-1779978600@middleburystudioschool.org
SUMMARY:Thursday
DESCRIPTION:Studio Hours are 12-2:30pm.
URL:https://middleburystudioschool.org/event/thursday-211/
CATEGORIES:Thursday
END:VEVENT
END:VCALENDAR