BEGIN:VCALENDAR
VERSION:2.0
PRODID:-//Middlebury Studio School - ECPv6.15.20//NONSGML v1.0//EN
CALSCALE:GREGORIAN
METHOD:PUBLISH
X-WR-CALNAME:Middlebury Studio School
X-ORIGINAL-URL:https://middleburystudioschool.org
X-WR-CALDESC:Events for Middlebury Studio School
REFRESH-INTERVAL;VALUE=DURATION:PT1H
X-Robots-Tag:noindex
X-PUBLISHED-TTL:PT1H
BEGIN:VTIMEZONE
TZID:UTC
BEGIN:STANDARD
TZOFFSETFROM:+0000
TZOFFSETTO:+0000
TZNAME:UTC
DTSTART:20230101T000000
END:STANDARD
END:VTIMEZONE
BEGIN:VEVENT
DTSTART;TZID=UTC:20241106T090000
DTEND;TZID=UTC:20241106T120000
DTSTAMP:20260425T103212
CREATED:20241023T154435Z
LAST-MODIFIED:20241023T154435Z
UID:12550-1730883600-1730894400@middleburystudioschool.org
SUMMARY:Wednesday - Session 1
DESCRIPTION:Open studio hours are from 9am – 12pm.
URL:https://middleburystudioschool.org/event/wednesday-session-1-120/
CATEGORIES:Wednesday
END:VEVENT
BEGIN:VEVENT
DTSTART;TZID=UTC:20241106T180000
DTEND;TZID=UTC:20241106T203000
DTSTAMP:20260425T103212
CREATED:20241023T154909Z
LAST-MODIFIED:20241023T154909Z
UID:12554-1730916000-1730925000@middleburystudioschool.org
SUMMARY:Wednesday - Session 2
DESCRIPTION:Open studio hours are from 6 – 8:30pm.
URL:https://middleburystudioschool.org/event/wednesday-session-2-123/
CATEGORIES:Wednesday
END:VEVENT
END:VCALENDAR