BEGIN:VCALENDAR
VERSION:2.0
PRODID:-//Middlebury Studio School - ECPv6.15.20//NONSGML v1.0//EN
CALSCALE:GREGORIAN
METHOD:PUBLISH
X-ORIGINAL-URL:https://middleburystudioschool.org
X-WR-CALDESC:Events for Middlebury Studio School
REFRESH-INTERVAL;VALUE=DURATION:PT1H
X-Robots-Tag:noindex
X-PUBLISHED-TTL:PT1H
BEGIN:VTIMEZONE
TZID:UTC
BEGIN:STANDARD
TZOFFSETFROM:+0000
TZOFFSETTO:+0000
TZNAME:UTC
DTSTART:20230101T000000
END:STANDARD
END:VTIMEZONE
BEGIN:VEVENT
DTSTART;TZID=UTC:20241120T090000
DTEND;TZID=UTC:20241120T120000
DTSTAMP:20260425T140926
CREATED:20241023T154635Z
LAST-MODIFIED:20241023T154635Z
UID:12552-1732093200-1732104000@middleburystudioschool.org
SUMMARY:Wednesday - Session 1
DESCRIPTION:Open studio hours are from 9am – 12pm.
URL:https://middleburystudioschool.org/event/wednesday-session-1-122/
CATEGORIES:Wednesday
END:VEVENT
BEGIN:VEVENT
DTSTART;TZID=UTC:20241120T180000
DTEND;TZID=UTC:20241120T203000
DTSTAMP:20260425T140926
CREATED:20241023T155151Z
LAST-MODIFIED:20241023T155151Z
UID:12556-1732125600-1732134600@middleburystudioschool.org
SUMMARY:Wednesday - Session 2
DESCRIPTION:Open studio hours are from 6 – 8:30pm.
URL:https://middleburystudioschool.org/event/wednesday-session-2-125/
CATEGORIES:Wednesday
END:VEVENT
END:VCALENDAR