BEGIN:VCALENDAR
VERSION:2.0
PRODID:-//Middlebury Studio School - ECPv6.15.20//NONSGML v1.0//EN
CALSCALE:GREGORIAN
METHOD:PUBLISH
X-ORIGINAL-URL:https://middleburystudioschool.org
X-WR-CALDESC:Events for Middlebury Studio School
REFRESH-INTERVAL;VALUE=DURATION:PT1H
X-Robots-Tag:noindex
X-PUBLISHED-TTL:PT1H
BEGIN:VTIMEZONE
TZID:UTC
BEGIN:STANDARD
TZOFFSETFROM:+0000
TZOFFSETTO:+0000
TZNAME:UTC
DTSTART:20240101T000000
END:STANDARD
END:VTIMEZONE
BEGIN:VEVENT
DTSTART;TZID=UTC:20250813T180000
DTEND;TZID=UTC:20250813T203000
DTSTAMP:20260425T123639
CREATED:20250617T153249Z
LAST-MODIFIED:20250617T153249Z
UID:13350-1755108000-1755117000@middleburystudioschool.org
SUMMARY:Wednesday - Session 2
DESCRIPTION:Studio hours are from 1-4pm.
URL:https://middleburystudioschool.org/event/wednesday-session-2-162/
CATEGORIES:Wednesday
END:VEVENT
BEGIN:VEVENT
DTSTART;TZID=UTC:20250820T090000
DTEND;TZID=UTC:20250820T120000
DTSTAMP:20260425T123639
CREATED:20250612T191959Z
LAST-MODIFIED:20250612T191959Z
UID:13328-1755680400-1755691200@middleburystudioschool.org
SUMMARY:Wednesday - Session 1
DESCRIPTION:Studio hours are from 9am-12pm.
URL:https://middleburystudioschool.org/event/wednesday-session-1-158/
CATEGORIES:Wednesday
END:VEVENT
BEGIN:VEVENT
DTSTART;TZID=UTC:20250820T180000
DTEND;TZID=UTC:20250820T203000
DTSTAMP:20260425T123639
CREATED:20250617T153356Z
LAST-MODIFIED:20250617T153651Z
UID:13351-1755712800-1755721800@middleburystudioschool.org
SUMMARY:Wednesday - Session 2
DESCRIPTION:Studio hours are from 6-8:30pm.
URL:https://middleburystudioschool.org/event/wednesday-session-2-163/
CATEGORIES:Wednesday
END:VEVENT
BEGIN:VEVENT
DTSTART;TZID=UTC:20250827T090000
DTEND;TZID=UTC:20250827T120000
DTSTAMP:20260425T123639
CREATED:20250612T192148Z
LAST-MODIFIED:20250612T192148Z
UID:13329-1756285200-1756296000@middleburystudioschool.org
SUMMARY:Wednesday - Session 1
DESCRIPTION:Studio hours are from 9am-12pm.
URL:https://middleburystudioschool.org/event/wednesday-session-1-159/
CATEGORIES:Wednesday
END:VEVENT
BEGIN:VEVENT
DTSTART;TZID=UTC:20250827T180000
DTEND;TZID=UTC:20250827T203000
DTSTAMP:20260425T123639
CREATED:20250617T153459Z
LAST-MODIFIED:20250617T153459Z
UID:13352-1756317600-1756326600@middleburystudioschool.org
SUMMARY:Wednesday - Session 2
DESCRIPTION:Studio hours are from 1-4pm.
URL:https://middleburystudioschool.org/event/wednesday-session-2-164/
CATEGORIES:Wednesday
END:VEVENT
BEGIN:VEVENT
DTSTART;TZID=UTC:20250903T090000
DTEND;TZID=UTC:20250903T120000
DTSTAMP:20260425T123639
CREATED:20250802T172248Z
LAST-MODIFIED:20250802T172248Z
UID:13445-1756890000-1756900800@middleburystudioschool.org
SUMMARY:Wednesday - Session 1
DESCRIPTION:Studio hours are from 9am-12pm.
URL:https://middleburystudioschool.org/event/wednesday-session-1-160/
CATEGORIES:Wednesday
END:VEVENT
BEGIN:VEVENT
DTSTART;TZID=UTC:20250903T180000
DTEND;TZID=UTC:20250903T203000
DTSTAMP:20260425T123639
CREATED:20250802T172919Z
LAST-MODIFIED:20250802T172919Z
UID:13449-1756922400-1756931400@middleburystudioschool.org
SUMMARY:Wednesday - Session 2
DESCRIPTION:Studio hours are from 6:00pm-8:30pm.
URL:https://middleburystudioschool.org/event/wednesday-session-2-165/
CATEGORIES:Wednesday
END:VEVENT
BEGIN:VEVENT
DTSTART;TZID=UTC:20250910T090000
DTEND;TZID=UTC:20250910T120000
DTSTAMP:20260425T123639
CREATED:20250802T172525Z
LAST-MODIFIED:20250802T172525Z
UID:13446-1757494800-1757505600@middleburystudioschool.org
SUMMARY:Wednesday - Session 1
DESCRIPTION:Studio hours are from 9am-12pm.
URL:https://middleburystudioschool.org/event/wednesday-session-1-161/
CATEGORIES:Wednesday
END:VEVENT
BEGIN:VEVENT
DTSTART;TZID=UTC:20250910T180000
DTEND;TZID=UTC:20250910T203000
DTSTAMP:20260425T123639
CREATED:20250802T173015Z
LAST-MODIFIED:20250802T173015Z
UID:13450-1757527200-1757536200@middleburystudioschool.org
SUMMARY:Wednesday - Session 2
DESCRIPTION:Studio hours are from 6:00pm-8:30pm.
URL:https://middleburystudioschool.org/event/wednesday-session-2-166/
CATEGORIES:Wednesday
END:VEVENT
BEGIN:VEVENT
DTSTART;TZID=UTC:20250917T090000
DTEND;TZID=UTC:20250917T120000
DTSTAMP:20260425T123639
CREATED:20250802T172621Z
LAST-MODIFIED:20250802T172621Z
UID:13447-1758099600-1758110400@middleburystudioschool.org
SUMMARY:Wednesday - Session 1
DESCRIPTION:Studio hours are from 9am-12pm.
URL:https://middleburystudioschool.org/event/wednesday-session-1-162/
CATEGORIES:Wednesday
END:VEVENT
BEGIN:VEVENT
DTSTART;TZID=UTC:20250917T180000
DTEND;TZID=UTC:20250917T203000
DTSTAMP:20260425T123639
CREATED:20250802T173116Z
LAST-MODIFIED:20250802T173116Z
UID:13451-1758132000-1758141000@middleburystudioschool.org
SUMMARY:Wednesday - Session 2
DESCRIPTION:Studio hours are from 6:00pm-8:30pm.
URL:https://middleburystudioschool.org/event/wednesday-session-2-167/
CATEGORIES:Wednesday
END:VEVENT
BEGIN:VEVENT
DTSTART;TZID=UTC:20250924T090000
DTEND;TZID=UTC:20250924T120000
DTSTAMP:20260425T123639
CREATED:20250802T172714Z
LAST-MODIFIED:20250802T172714Z
UID:13448-1758704400-1758715200@middleburystudioschool.org
SUMMARY:Wednesday - Session 1
DESCRIPTION:Studio hours are from 9am-12pm.
URL:https://middleburystudioschool.org/event/wednesday-session-1-163/
CATEGORIES:Wednesday
END:VEVENT
BEGIN:VEVENT
DTSTART;TZID=UTC:20250924T180000
DTEND;TZID=UTC:20250924T203000
DTSTAMP:20260425T123639
CREATED:20250802T173209Z
LAST-MODIFIED:20250802T173209Z
UID:13452-1758736800-1758745800@middleburystudioschool.org
SUMMARY:Wednesday - Session 2
DESCRIPTION:Studio hours are from 6:00pm-8:30pm.
URL:https://middleburystudioschool.org/event/wednesday-session-2-168/
CATEGORIES:Wednesday
END:VEVENT
BEGIN:VEVENT
DTSTART;TZID=UTC:20251001T090000
DTEND;TZID=UTC:20251001T120000
DTSTAMP:20260425T123639
CREATED:20250910T162343Z
LAST-MODIFIED:20250910T162343Z
UID:13574-1759309200-1759320000@middleburystudioschool.org
SUMMARY:Wednesday - Session 1
DESCRIPTION:Studio hours are from 9am-12pm.
URL:https://middleburystudioschool.org/event/wednesday-session-1-164/
CATEGORIES:Wednesday
END:VEVENT
BEGIN:VEVENT
DTSTART;TZID=UTC:20251001T180000
DTEND;TZID=UTC:20251001T203000
DTSTAMP:20260425T123639
CREATED:20250910T173004Z
LAST-MODIFIED:20250910T173004Z
UID:13606-1759341600-1759350600@middleburystudioschool.org
SUMMARY:Wednesday - Session 2 - WHEEL ONLY
DESCRIPTION:Studio hours are from 6pm-8:30pm.
URL:https://middleburystudioschool.org/event/wednesday-session-2-wheel-only/
CATEGORIES:Wednesday
END:VEVENT
BEGIN:VEVENT
DTSTART;TZID=UTC:20251008T090000
DTEND;TZID=UTC:20251008T120000
DTSTAMP:20260425T123639
CREATED:20250910T162438Z
LAST-MODIFIED:20250910T162438Z
UID:13575-1759914000-1759924800@middleburystudioschool.org
SUMMARY:Wednesday - Session 1
DESCRIPTION:Studio hours are from 9am-12pm.
URL:https://middleburystudioschool.org/event/wednesday-session-1-165/
CATEGORIES:Wednesday
END:VEVENT
BEGIN:VEVENT
DTSTART;TZID=UTC:20251008T180000
DTEND;TZID=UTC:20251008T203000
DTSTAMP:20260425T123639
CREATED:20250910T173105Z
LAST-MODIFIED:20250910T173105Z
UID:13607-1759946400-1759955400@middleburystudioschool.org
SUMMARY:Wednesday - Session 2 - WHEEL ONLY
DESCRIPTION:Studio hours are from 6pm-8:30pm.
URL:https://middleburystudioschool.org/event/wednesday-session-2-wheel-only-2/
CATEGORIES:Wednesday
END:VEVENT
BEGIN:VEVENT
DTSTART;TZID=UTC:20251015T090000
DTEND;TZID=UTC:20251015T120000
DTSTAMP:20260425T123639
CREATED:20250910T162533Z
LAST-MODIFIED:20250910T162533Z
UID:13576-1760518800-1760529600@middleburystudioschool.org
SUMMARY:Wednesday - Session 1
DESCRIPTION:Studio hours are from 9am-12pm.
URL:https://middleburystudioschool.org/event/wednesday-session-1-166/
CATEGORIES:Wednesday
END:VEVENT
BEGIN:VEVENT
DTSTART;TZID=UTC:20251015T170000
DTEND;TZID=UTC:20251015T203000
DTSTAMP:20260425T123639
CREATED:20250910T173220Z
LAST-MODIFIED:20250910T173220Z
UID:13608-1760547600-1760560200@middleburystudioschool.org
SUMMARY:Wednesday - Session 2 - WHEEL ONLY
DESCRIPTION:Studio hours are from 6pm-8:30pm.
URL:https://middleburystudioschool.org/event/wednesday-session-2-wheel-only-3/
CATEGORIES:Wednesday
END:VEVENT
BEGIN:VEVENT
DTSTART;TZID=UTC:20251022T090000
DTEND;TZID=UTC:20251022T120000
DTSTAMP:20260425T123639
CREATED:20250910T162621Z
LAST-MODIFIED:20250910T162621Z
UID:13577-1761123600-1761134400@middleburystudioschool.org
SUMMARY:Wednesday - Session 1
DESCRIPTION:Studio hours are from 9am-12pm.
URL:https://middleburystudioschool.org/event/wednesday-session-1-167/
CATEGORIES:Wednesday
END:VEVENT
BEGIN:VEVENT
DTSTART;TZID=UTC:20251022T180000
DTEND;TZID=UTC:20251022T203000
DTSTAMP:20260425T123639
CREATED:20250910T173328Z
LAST-MODIFIED:20250910T173328Z
UID:13609-1761156000-1761165000@middleburystudioschool.org
SUMMARY:Wednesday - Session 2 - WHEEL ONLY
DESCRIPTION:Studio hours are from 6pm-8:30pm.
URL:https://middleburystudioschool.org/event/wednesday-session-2-wheel-only-4/
CATEGORIES:Wednesday
END:VEVENT
BEGIN:VEVENT
DTSTART;TZID=UTC:20251029T090000
DTEND;TZID=UTC:20251029T120000
DTSTAMP:20260425T123639
CREATED:20250910T162727Z
LAST-MODIFIED:20250910T162727Z
UID:13578-1761728400-1761739200@middleburystudioschool.org
SUMMARY:Wednesday - Session 1
DESCRIPTION:Studio hours are from 9am-12pm.
URL:https://middleburystudioschool.org/event/wednesday-session-1-168/
CATEGORIES:Wednesday
END:VEVENT
BEGIN:VEVENT
DTSTART;TZID=UTC:20251029T180000
DTEND;TZID=UTC:20251029T203000
DTSTAMP:20260425T123639
CREATED:20250910T173421Z
LAST-MODIFIED:20250910T173421Z
UID:13610-1761760800-1761769800@middleburystudioschool.org
SUMMARY:Wednesday - Session 2 - WHEEL ONLY
DESCRIPTION:Studio hours are from 6pm-8:30pm.
URL:https://middleburystudioschool.org/event/wednesday-session-2-wheel-only-5/
CATEGORIES:Wednesday
END:VEVENT
BEGIN:VEVENT
DTSTART;TZID=UTC:20251105T090000
DTEND;TZID=UTC:20251105T120000
DTSTAMP:20260425T123639
CREATED:20251024T184843Z
LAST-MODIFIED:20251024T184843Z
UID:13730-1762333200-1762344000@middleburystudioschool.org
SUMMARY:Wednesday - Session 1
DESCRIPTION:Studio hours are from 9am – 12pm.
URL:https://middleburystudioschool.org/event/wednesday-session-1-169/
CATEGORIES:Wednesday
END:VEVENT
BEGIN:VEVENT
DTSTART;TZID=UTC:20251105T180000
DTEND;TZID=UTC:20251105T203000
DTSTAMP:20260425T123639
CREATED:20251024T185315Z
LAST-MODIFIED:20251024T185315Z
UID:13734-1762365600-1762374600@middleburystudioschool.org
SUMMARY:Wednesday - Session 2
DESCRIPTION:Studio hours are from 6 – 8:30pm.
URL:https://middleburystudioschool.org/event/wednesday-session-2-169/
CATEGORIES:Wednesday
END:VEVENT
BEGIN:VEVENT
DTSTART;TZID=UTC:20251112T090000
DTEND;TZID=UTC:20251112T120000
DTSTAMP:20260425T123639
CREATED:20251024T184936Z
LAST-MODIFIED:20251024T184936Z
UID:13731-1762938000-1762948800@middleburystudioschool.org
SUMMARY:Wednesday - Session 1
DESCRIPTION:Studio hours are from 9am – 12pm.
URL:https://middleburystudioschool.org/event/wednesday-session-1-170/
CATEGORIES:Wednesday
END:VEVENT
BEGIN:VEVENT
DTSTART;TZID=UTC:20251112T180000
DTEND;TZID=UTC:20251112T203000
DTSTAMP:20260425T123639
CREATED:20251024T185410Z
LAST-MODIFIED:20251024T185410Z
UID:13735-1762970400-1762979400@middleburystudioschool.org
SUMMARY:Wednesday - Session 2
DESCRIPTION:Studio hours are from 6 – 8:30pm.
URL:https://middleburystudioschool.org/event/wednesday-session-2-170/
CATEGORIES:Wednesday
END:VEVENT
BEGIN:VEVENT
DTSTART;TZID=UTC:20251119T090000
DTEND;TZID=UTC:20251119T120000
DTSTAMP:20260425T123639
CREATED:20251024T185021Z
LAST-MODIFIED:20251024T185021Z
UID:13732-1763542800-1763553600@middleburystudioschool.org
SUMMARY:Wednesday - Session 1
DESCRIPTION:Studio hours are from 9am – 12pm.
URL:https://middleburystudioschool.org/event/wednesday-session-1-171/
CATEGORIES:Wednesday
END:VEVENT
BEGIN:VEVENT
DTSTART;TZID=UTC:20251119T180000
DTEND;TZID=UTC:20251119T203000
DTSTAMP:20260425T123639
CREATED:20251024T185507Z
LAST-MODIFIED:20251024T185507Z
UID:13736-1763575200-1763584200@middleburystudioschool.org
SUMMARY:Wednesday - Session 2
DESCRIPTION:Studio hours are from 6 – 8:30pm.
URL:https://middleburystudioschool.org/event/wednesday-session-2-171/
CATEGORIES:Wednesday
END:VEVENT
BEGIN:VEVENT
DTSTART;TZID=UTC:20251126T090000
DTEND;TZID=UTC:20251126T120000
DTSTAMP:20260425T123639
CREATED:20251024T185113Z
LAST-MODIFIED:20251024T185113Z
UID:13733-1764147600-1764158400@middleburystudioschool.org
SUMMARY:Wednesday - Session 1
DESCRIPTION:Studio hours are from 9am – 12pm.
URL:https://middleburystudioschool.org/event/wednesday-session-1-172/
CATEGORIES:Wednesday
END:VEVENT
END:VCALENDAR