BEGIN:VCALENDAR
VERSION:2.0
PRODID:-//Middlebury Studio School - ECPv6.15.20//NONSGML v1.0//EN
CALSCALE:GREGORIAN
METHOD:PUBLISH
X-WR-CALNAME:Middlebury Studio School
X-ORIGINAL-URL:https://middleburystudioschool.org
X-WR-CALDESC:Events for Middlebury Studio School
REFRESH-INTERVAL;VALUE=DURATION:PT1H
X-Robots-Tag:noindex
X-PUBLISHED-TTL:PT1H
BEGIN:VTIMEZONE
TZID:UTC
BEGIN:STANDARD
TZOFFSETFROM:+0000
TZOFFSETTO:+0000
TZNAME:UTC
DTSTART:20240101T000000
END:STANDARD
END:VTIMEZONE
BEGIN:VEVENT
DTSTART;VALUE=DATE:20251215
DTEND;VALUE=DATE:20251216
DTSTAMP:20260420T155941
CREATED:20251024T190959Z
LAST-MODIFIED:20251024T190959Z
UID:13748-1765756800-1765843199@middleburystudioschool.org
SUMMARY:Monday - No Studio Hours
DESCRIPTION:
URL:https://middleburystudioschool.org/event/monday-no-studio-hours-3/
CATEGORIES:Monday
END:VEVENT
BEGIN:VEVENT
DTSTART;TZID=UTC:20251214T130000
DTEND;TZID=UTC:20251214T190000
DTSTAMP:20260420T155941
CREATED:20251024T200210Z
LAST-MODIFIED:20251024T200210Z
UID:13770-1765717200-1765738800@middleburystudioschool.org
SUMMARY:Sunday
DESCRIPTION:Studio hours are 1-7pm.
URL:https://middleburystudioschool.org/event/sunday-145/
CATEGORIES:Sunday
END:VEVENT
BEGIN:VEVENT
DTSTART;TZID=UTC:20251213T130000
DTEND;TZID=UTC:20251213T160000
DTSTAMP:20260420T155941
CREATED:20251024T201414Z
LAST-MODIFIED:20251024T201414Z
UID:13779-1765630800-1765641600@middleburystudioschool.org
SUMMARY:Saturday
DESCRIPTION:Studio hours are 1-4pm.
URL:https://middleburystudioschool.org/event/saturday-189/
CATEGORIES:Saturday
END:VEVENT
BEGIN:VEVENT
DTSTART;TZID=UTC:20251212T100000
DTEND;TZID=UTC:20251212T160000
DTSTAMP:20260420T155941
CREATED:20251024T201037Z
LAST-MODIFIED:20251024T201037Z
UID:13776-1765533600-1765555200@middleburystudioschool.org
SUMMARY:Friday
DESCRIPTION:Studio hours are 10am-4pm.
URL:https://middleburystudioschool.org/event/friday-167/
CATEGORIES:Friday
END:VEVENT
BEGIN:VEVENT
DTSTART;TZID=UTC:20251211T120000
DTEND;TZID=UTC:20251211T143000
DTSTAMP:20260420T155941
CREATED:20251024T200706Z
LAST-MODIFIED:20251024T200706Z
UID:13773-1765454400-1765463400@middleburystudioschool.org
SUMMARY:Thursday
DESCRIPTION:Studio hours are 12-2:30pm.
URL:https://middleburystudioschool.org/event/thursday-189/
CATEGORIES:Thursday
END:VEVENT
BEGIN:VEVENT
DTSTART;TZID=UTC:20251210T180000
DTEND;TZID=UTC:20251210T203000
DTSTAMP:20260420T155941
CREATED:20251024T194008Z
LAST-MODIFIED:20251024T194417Z
UID:13757-1765389600-1765398600@middleburystudioschool.org
SUMMARY:Wednesday - Session 2
DESCRIPTION:Studio hours are from 6 – 8:30pm.
URL:https://middleburystudioschool.org/event/wednesday-session-2-174/
CATEGORIES:Wednesday
END:VEVENT
BEGIN:VEVENT
DTSTART;TZID=UTC:20251210T090000
DTEND;TZID=UTC:20251210T120000
DTSTAMP:20260420T155941
CREATED:20251024T194547Z
LAST-MODIFIED:20251024T194547Z
UID:13760-1765357200-1765368000@middleburystudioschool.org
SUMMARY:Wednesday - Session 1
DESCRIPTION:Studio hours are from 9am – 12pm.
URL:https://middleburystudioschool.org/event/wednesday-session-1-174/
CATEGORIES:Wednesday
END:VEVENT
BEGIN:VEVENT
DTSTART;TZID=UTC:20251209T180000
DTEND;TZID=UTC:20251209T203000
DTSTAMP:20260420T155941
CREATED:20251024T191459Z
LAST-MODIFIED:20251024T191459Z
UID:13752-1765303200-1765312200@middleburystudioschool.org
SUMMARY:Tuesday
DESCRIPTION:Studio hours are from 6 – 8:30pm.
URL:https://middleburystudioschool.org/event/tuesday-182/
CATEGORIES:Tuesday
END:VEVENT
BEGIN:VEVENT
DTSTART;VALUE=DATE:20251208
DTEND;VALUE=DATE:20251209
DTSTAMP:20260420T155941
CREATED:20251024T190837Z
LAST-MODIFIED:20251024T190837Z
UID:13747-1765152000-1765238399@middleburystudioschool.org
SUMMARY:Monday - No Studio Hours
DESCRIPTION:
URL:https://middleburystudioschool.org/event/monday-no-studio-hours-2/
CATEGORIES:Monday
END:VEVENT
BEGIN:VEVENT
DTSTART;TZID=UTC:20251207T130000
DTEND;TZID=UTC:20251207T190000
DTSTAMP:20260420T155941
CREATED:20251024T200124Z
LAST-MODIFIED:20251024T200124Z
UID:13769-1765112400-1765134000@middleburystudioschool.org
SUMMARY:Sunday
DESCRIPTION:Studio hours are 1-7pm.
URL:https://middleburystudioschool.org/event/sunday-144/
CATEGORIES:Sunday
END:VEVENT
BEGIN:VEVENT
DTSTART;TZID=UTC:20251206T130000
DTEND;TZID=UTC:20251206T160000
DTSTAMP:20260420T155941
CREATED:20251024T201318Z
LAST-MODIFIED:20251024T201318Z
UID:13778-1765026000-1765036800@middleburystudioschool.org
SUMMARY:Saturday
DESCRIPTION:Studio hours are 1-4pm.
URL:https://middleburystudioschool.org/event/saturday-188/
CATEGORIES:Saturday
END:VEVENT
BEGIN:VEVENT
DTSTART;TZID=UTC:20251205T100000
DTEND;TZID=UTC:20251205T160000
DTSTAMP:20260420T155941
CREATED:20251024T200954Z
LAST-MODIFIED:20251024T200954Z
UID:13775-1764928800-1764950400@middleburystudioschool.org
SUMMARY:Friday
DESCRIPTION:Studio hours are 10am-4pm.
URL:https://middleburystudioschool.org/event/friday-166/
CATEGORIES:Friday
END:VEVENT
BEGIN:VEVENT
DTSTART;TZID=UTC:20251204T120000
DTEND;TZID=UTC:20251204T143000
DTSTAMP:20260420T155941
CREATED:20251024T200519Z
LAST-MODIFIED:20251024T200519Z
UID:13772-1764849600-1764858600@middleburystudioschool.org
SUMMARY:Thursday
DESCRIPTION:Studio hours are 12-2:30pm.
URL:https://middleburystudioschool.org/event/thursday-188/
CATEGORIES:Thursday
END:VEVENT
BEGIN:VEVENT
DTSTART;TZID=UTC:20251203T180000
DTEND;TZID=UTC:20251203T203000
DTSTAMP:20260420T155941
CREATED:20251024T193901Z
LAST-MODIFIED:20251024T193901Z
UID:13756-1764784800-1764793800@middleburystudioschool.org
SUMMARY:Wednesday - Session 2
DESCRIPTION:Studio hours are from 6 – 8:30pm.
URL:https://middleburystudioschool.org/event/wednesday-session-2-173/
CATEGORIES:Wednesday
END:VEVENT
BEGIN:VEVENT
DTSTART;TZID=UTC:20251203T090000
DTEND;TZID=UTC:20251203T120000
DTSTAMP:20260420T155941
CREATED:20251024T194258Z
LAST-MODIFIED:20251024T194258Z
UID:13759-1764752400-1764763200@middleburystudioschool.org
SUMMARY:Wednesday - Session 1
DESCRIPTION:Studio hours are from 9am – 12pm.
URL:https://middleburystudioschool.org/event/wednesday-session-1-173/
CATEGORIES:Wednesday
END:VEVENT
BEGIN:VEVENT
DTSTART;TZID=UTC:20251202T180000
DTEND;TZID=UTC:20251202T203000
DTSTAMP:20260420T155941
CREATED:20251024T191404Z
LAST-MODIFIED:20251202T144213Z
UID:13751-1764698400-1764707400@middleburystudioschool.org
SUMMARY:OPEN STUDIO HOURS CANCELED DUE TO SNOW
DESCRIPTION:Studio hours are from 6 – 8:30pm.
URL:https://middleburystudioschool.org/event/tuesday-181/
CATEGORIES:Tuesday
END:VEVENT
BEGIN:VEVENT
DTSTART;VALUE=DATE:20251201
DTEND;VALUE=DATE:20251202
DTSTAMP:20260420T155941
CREATED:20251024T190753Z
LAST-MODIFIED:20251024T190753Z
UID:13746-1764547200-1764633599@middleburystudioschool.org
SUMMARY:Monday - No Studio Hours
DESCRIPTION:Studio hours are from 9am – 12pm.
URL:https://middleburystudioschool.org/event/monday-no-studio-hours/
CATEGORIES:Monday
END:VEVENT
BEGIN:VEVENT
DTSTART;TZID=UTC:20251130T130000
DTEND;TZID=UTC:20251130T190000
DTSTAMP:20260420T155941
CREATED:20251024T182224Z
LAST-MODIFIED:20251024T182224Z
UID:13721-1764507600-1764529200@middleburystudioschool.org
SUMMARY:Sunday
DESCRIPTION:Studio hours are from 1 – 7pm.
URL:https://middleburystudioschool.org/event/sunday-143/
CATEGORIES:Sunday
END:VEVENT
BEGIN:VEVENT
DTSTART;TZID=UTC:20251129T130000
DTEND;TZID=UTC:20251129T160000
DTSTAMP:20260420T155941
CREATED:20251024T181744Z
LAST-MODIFIED:20251024T181744Z
UID:13716-1764421200-1764432000@middleburystudioschool.org
SUMMARY:Saturday
DESCRIPTION:Studio hours are from 1 – 4pm.
URL:https://middleburystudioschool.org/event/saturday-187/
CATEGORIES:Saturday
END:VEVENT
BEGIN:VEVENT
DTSTART;TZID=UTC:20251128T100000
DTEND;TZID=UTC:20251128T160000
DTSTAMP:20260420T155941
CREATED:20251024T190623Z
LAST-MODIFIED:20251109T150041Z
UID:13745-1764324000-1764345600@middleburystudioschool.org
SUMMARY:Happy Thanksgiving - No Studio Hours
DESCRIPTION:Studio hours are from 10am – 4pm.
URL:https://middleburystudioschool.org/event/friday-165/
CATEGORIES:Friday
END:VEVENT
BEGIN:VEVENT
DTSTART;TZID=UTC:20251127T120000
DTEND;TZID=UTC:20251127T143000
DTSTAMP:20260420T155941
CREATED:20251024T185830Z
LAST-MODIFIED:20251109T150108Z
UID:13738-1764244800-1764253800@middleburystudioschool.org
SUMMARY:Happy Thanksgiving - No Studio Hours
DESCRIPTION:Studio hours are from 12 – 2:30pm.
URL:https://middleburystudioschool.org/event/thursday-184/
CATEGORIES:Thursday
END:VEVENT
BEGIN:VEVENT
DTSTART;TZID=UTC:20251126T180000
DTEND;TZID=UTC:20251126T203000
DTSTAMP:20260420T155941
CREATED:20251024T185641Z
LAST-MODIFIED:20251024T185641Z
UID:13737-1764180000-1764189000@middleburystudioschool.org
SUMMARY:Wednesday - Session 2
DESCRIPTION:Studio hours are from 6 – 8:30pm.
URL:https://middleburystudioschool.org/event/wednesday-session-2-172/
CATEGORIES:Wednesday
END:VEVENT
BEGIN:VEVENT
DTSTART;TZID=UTC:20251126T090000
DTEND;TZID=UTC:20251126T120000
DTSTAMP:20260420T155941
CREATED:20251024T185113Z
LAST-MODIFIED:20251024T185113Z
UID:13733-1764147600-1764158400@middleburystudioschool.org
SUMMARY:Wednesday - Session 1
DESCRIPTION:Studio hours are from 9am – 12pm.
URL:https://middleburystudioschool.org/event/wednesday-session-1-172/
CATEGORIES:Wednesday
END:VEVENT
BEGIN:VEVENT
DTSTART;TZID=UTC:20251125T180000
DTEND;TZID=UTC:20251125T203000
DTSTAMP:20260420T155941
CREATED:20251024T184640Z
LAST-MODIFIED:20251024T184640Z
UID:13729-1764093600-1764102600@middleburystudioschool.org
SUMMARY:Tuesday
DESCRIPTION:Studio hours are from 6 – 8:30pm.
URL:https://middleburystudioschool.org/event/tuesday-180/
CATEGORIES:Tuesday
END:VEVENT
BEGIN:VEVENT
DTSTART;TZID=UTC:20251124T090000
DTEND;TZID=UTC:20251124T120000
DTSTAMP:20260420T155941
CREATED:20251024T182614Z
LAST-MODIFIED:20251024T182614Z
UID:13725-1763974800-1763985600@middleburystudioschool.org
SUMMARY:Monday
DESCRIPTION:Studio hours are from 9am-12pm.
URL:https://middleburystudioschool.org/event/monday-156/
CATEGORIES:Monday
END:VEVENT
BEGIN:VEVENT
DTSTART;TZID=UTC:20251123T130000
DTEND;TZID=UTC:20251123T190000
DTSTAMP:20260420T155941
CREATED:20251024T182131Z
LAST-MODIFIED:20251024T182131Z
UID:13720-1763902800-1763924400@middleburystudioschool.org
SUMMARY:Sunday
DESCRIPTION:Studio hours are from 1 – 7pm.
URL:https://middleburystudioschool.org/event/sunday-142/
CATEGORIES:Sunday
END:VEVENT
BEGIN:VEVENT
DTSTART;TZID=UTC:20251122T130000
DTEND;TZID=UTC:20251122T160000
DTSTAMP:20260420T155941
CREATED:20251024T181658Z
LAST-MODIFIED:20251024T181658Z
UID:13715-1763816400-1763827200@middleburystudioschool.org
SUMMARY:Saturday
DESCRIPTION:Studio hours are from 1 – 4pm.
URL:https://middleburystudioschool.org/event/saturday-186/
CATEGORIES:Saturday
END:VEVENT
BEGIN:VEVENT
DTSTART;TZID=UTC:20251121T100000
DTEND;TZID=UTC:20251121T160000
DTSTAMP:20260420T155941
CREATED:20251024T190458Z
LAST-MODIFIED:20251024T190458Z
UID:13744-1763719200-1763740800@middleburystudioschool.org
SUMMARY:Friday
DESCRIPTION:Studio hours are from 10am – 4pm.
URL:https://middleburystudioschool.org/event/friday-164/
CATEGORIES:Friday
END:VEVENT
BEGIN:VEVENT
DTSTART;TZID=UTC:20251120T120000
DTEND;TZID=UTC:20251120T143000
DTSTAMP:20260420T155941
CREATED:20251024T190125Z
LAST-MODIFIED:20251024T190125Z
UID:13741-1763640000-1763649000@middleburystudioschool.org
SUMMARY:Thursday
DESCRIPTION:Studio hours are from 12 – 2:30pm.
URL:https://middleburystudioschool.org/event/thursday-187/
CATEGORIES:Thursday
END:VEVENT
BEGIN:VEVENT
DTSTART;TZID=UTC:20251119T180000
DTEND;TZID=UTC:20251119T203000
DTSTAMP:20260420T155941
CREATED:20251024T185507Z
LAST-MODIFIED:20251024T185507Z
UID:13736-1763575200-1763584200@middleburystudioschool.org
SUMMARY:Wednesday - Session 2
DESCRIPTION:Studio hours are from 6 – 8:30pm.
URL:https://middleburystudioschool.org/event/wednesday-session-2-171/
CATEGORIES:Wednesday
END:VEVENT
END:VCALENDAR