BEGIN:VCALENDAR
VERSION:2.0
PRODID:-//Middlebury Studio School - ECPv6.15.20//NONSGML v1.0//EN
CALSCALE:GREGORIAN
METHOD:PUBLISH
X-WR-CALNAME:Middlebury Studio School
X-ORIGINAL-URL:https://middleburystudioschool.org
X-WR-CALDESC:Events for Middlebury Studio School
REFRESH-INTERVAL;VALUE=DURATION:PT1H
X-Robots-Tag:noindex
X-PUBLISHED-TTL:PT1H
BEGIN:VTIMEZONE
TZID:UTC
BEGIN:STANDARD
TZOFFSETFROM:+0000
TZOFFSETTO:+0000
TZNAME:UTC
DTSTART:20250101T000000
END:STANDARD
END:VTIMEZONE
BEGIN:VEVENT
DTSTART;TZID=UTC:20260215T130000
DTEND;TZID=UTC:20260215T190000
DTSTAMP:20260420T224620
CREATED:20251215T170814Z
LAST-MODIFIED:20251215T170814Z
UID:13882-1771160400-1771182000@middleburystudioschool.org
SUMMARY:Sunday
DESCRIPTION:Studio hours are 1-7pm.
URL:https://middleburystudioschool.org/event/sunday-153/
CATEGORIES:Sunday
END:VEVENT
BEGIN:VEVENT
DTSTART;TZID=UTC:20260214T130000
DTEND;TZID=UTC:20260214T160000
DTSTAMP:20260420T224620
CREATED:20251215T195526Z
LAST-MODIFIED:20251215T195526Z
UID:13933-1771074000-1771084800@middleburystudioschool.org
SUMMARY:Saturday
DESCRIPTION:Studio hours are 1-4pm.
URL:https://middleburystudioschool.org/event/saturday-197/
CATEGORIES:Saturday
END:VEVENT
BEGIN:VEVENT
DTSTART;TZID=UTC:20260213T100000
DTEND;TZID=UTC:20260213T160000
DTSTAMP:20260420T224620
CREATED:20251215T194551Z
LAST-MODIFIED:20251215T194551Z
UID:13925-1770976800-1770998400@middleburystudioschool.org
SUMMARY:Friday
DESCRIPTION:Studio hours are 10am-4pm.
URL:https://middleburystudioschool.org/event/friday-175/
CATEGORIES:Friday
END:VEVENT
BEGIN:VEVENT
DTSTART;TZID=UTC:20260212T120000
DTEND;TZID=UTC:20260212T143000
DTSTAMP:20260420T224620
CREATED:20251215T192643Z
LAST-MODIFIED:20251215T192643Z
UID:13917-1770897600-1770906600@middleburystudioschool.org
SUMMARY:Thursday
DESCRIPTION:Studio hours are 12-2:30pm.
URL:https://middleburystudioschool.org/event/thursday-196/
CATEGORIES:Thursday
END:VEVENT
BEGIN:VEVENT
DTSTART;TZID=UTC:20260211T180000
DTEND;TZID=UTC:20260211T203000
DTSTAMP:20260420T224620
CREATED:20251215T191218Z
LAST-MODIFIED:20251215T191218Z
UID:13909-1770832800-1770841800@middleburystudioschool.org
SUMMARY:Wednesday - Session 2
DESCRIPTION:Studio hours are 6-8:30pm.
URL:https://middleburystudioschool.org/event/wednesday-session-2-181/
CATEGORIES:Wednesday
END:VEVENT
BEGIN:VEVENT
DTSTART;TZID=UTC:20260211T090000
DTEND;TZID=UTC:20260211T120000
DTSTAMP:20260420T224620
CREATED:20251215T172937Z
LAST-MODIFIED:20251215T172937Z
UID:13897-1770800400-1770811200@middleburystudioschool.org
SUMMARY:Wednesday - Session 1
DESCRIPTION:Studio hours are 9am-12pm.
URL:https://middleburystudioschool.org/event/wednesday-session-1-181/
CATEGORIES:Wednesday
END:VEVENT
BEGIN:VEVENT
DTSTART;TZID=UTC:20260210T180000
DTEND;TZID=UTC:20260210T203000
DTSTAMP:20260420T224620
CREATED:20251215T171859Z
LAST-MODIFIED:20251215T171859Z
UID:13889-1770746400-1770755400@middleburystudioschool.org
SUMMARY:Tuesday
DESCRIPTION:Studio hours are 6-8:30pm.
URL:https://middleburystudioschool.org/event/tuesday-190/
CATEGORIES:Tuesday
END:VEVENT
BEGIN:VEVENT
DTSTART;TZID=UTC:20260209T090000
DTEND;TZID=UTC:20260209T120000
DTSTAMP:20260420T224620
CREATED:20251215T165944Z
LAST-MODIFIED:20251215T165944Z
UID:13874-1770627600-1770638400@middleburystudioschool.org
SUMMARY:Monday
DESCRIPTION:Studio hours are 9-12pm.
URL:https://middleburystudioschool.org/event/monday-164/
CATEGORIES:Monday
END:VEVENT
BEGIN:VEVENT
DTSTART;TZID=UTC:20260208T130000
DTEND;TZID=UTC:20260208T190000
DTSTAMP:20260420T224620
CREATED:20251215T170708Z
LAST-MODIFIED:20251215T170939Z
UID:13881-1770555600-1770577200@middleburystudioschool.org
SUMMARY:Sunday
DESCRIPTION:Studio hours are 1-7pm.
URL:https://middleburystudioschool.org/event/sunday-152/
CATEGORIES:Sunday
END:VEVENT
BEGIN:VEVENT
DTSTART;TZID=UTC:20260207T130000
DTEND;TZID=UTC:20260207T160000
DTSTAMP:20260420T224620
CREATED:20251215T195436Z
LAST-MODIFIED:20251215T195436Z
UID:13932-1770469200-1770480000@middleburystudioschool.org
SUMMARY:Saturday
DESCRIPTION:Studio hours are 1-4pm.
URL:https://middleburystudioschool.org/event/saturday-196/
CATEGORIES:Saturday
END:VEVENT
BEGIN:VEVENT
DTSTART;TZID=UTC:20260206T100000
DTEND;TZID=UTC:20260206T160000
DTSTAMP:20260420T224620
CREATED:20251215T193614Z
LAST-MODIFIED:20251215T193614Z
UID:13924-1770372000-1770393600@middleburystudioschool.org
SUMMARY:Friday
DESCRIPTION:Studio hours are 10am-4pm.
URL:https://middleburystudioschool.org/event/friday-174/
CATEGORIES:Friday
END:VEVENT
BEGIN:VEVENT
DTSTART;TZID=UTC:20260205T120000
DTEND;TZID=UTC:20260205T143000
DTSTAMP:20260420T224620
CREATED:20251215T192536Z
LAST-MODIFIED:20251215T192536Z
UID:13916-1770292800-1770301800@middleburystudioschool.org
SUMMARY:Thursday
DESCRIPTION:Studio hours are 12-2:30pm.
URL:https://middleburystudioschool.org/event/thursday-195/
CATEGORIES:Thursday
END:VEVENT
BEGIN:VEVENT
DTSTART;TZID=UTC:20260204T180000
DTEND;TZID=UTC:20260204T203000
DTSTAMP:20260420T224620
CREATED:20251215T190926Z
LAST-MODIFIED:20251215T190926Z
UID:13908-1770228000-1770237000@middleburystudioschool.org
SUMMARY:Wednesday - Session 2
DESCRIPTION:Studio hours are 6-8:30pm.
URL:https://middleburystudioschool.org/event/wednesday-session-2-180/
CATEGORIES:Wednesday
END:VEVENT
BEGIN:VEVENT
DTSTART;TZID=UTC:20260204T090000
DTEND;TZID=UTC:20260204T120000
DTSTAMP:20260420T224620
CREATED:20251215T172830Z
LAST-MODIFIED:20251215T172830Z
UID:13896-1770195600-1770206400@middleburystudioschool.org
SUMMARY:Wednesday - Session 1
DESCRIPTION:Studio hours are 9am-12pm.
URL:https://middleburystudioschool.org/event/wednesday-session-1-180/
CATEGORIES:Wednesday
END:VEVENT
BEGIN:VEVENT
DTSTART;TZID=UTC:20260203T180000
DTEND;TZID=UTC:20260203T203000
DTSTAMP:20260420T224620
CREATED:20251215T171803Z
LAST-MODIFIED:20251215T171803Z
UID:13888-1770141600-1770150600@middleburystudioschool.org
SUMMARY:Tuesday
DESCRIPTION:Studio hours are 6-8:30pm.
URL:https://middleburystudioschool.org/event/tuesday-189/
CATEGORIES:Tuesday
END:VEVENT
BEGIN:VEVENT
DTSTART;TZID=UTC:20260202T090000
DTEND;TZID=UTC:20260202T120000
DTSTAMP:20260420T224620
CREATED:20251215T165855Z
LAST-MODIFIED:20251215T165855Z
UID:13873-1770022800-1770033600@middleburystudioschool.org
SUMMARY:Monday
DESCRIPTION:Studio hours are 9-12pm.
URL:https://middleburystudioschool.org/event/monday-163/
CATEGORIES:Monday
END:VEVENT
BEGIN:VEVENT
DTSTART;TZID=UTC:20260201T130000
DTEND;TZID=UTC:20260201T190000
DTSTAMP:20260420T224620
CREATED:20251215T170620Z
LAST-MODIFIED:20251215T170620Z
UID:13880-1769950800-1769972400@middleburystudioschool.org
SUMMARY:Sunday
DESCRIPTION:Studio hours are 1-7pm.
URL:https://middleburystudioschool.org/event/sunday-151/
CATEGORIES:Sunday
END:VEVENT
BEGIN:VEVENT
DTSTART;TZID=UTC:20260131T130000
DTEND;TZID=UTC:20260131T160000
DTSTAMP:20260420T224620
CREATED:20251215T195145Z
LAST-MODIFIED:20251215T195256Z
UID:13931-1769864400-1769875200@middleburystudioschool.org
SUMMARY:Saturday
DESCRIPTION:Studio hours are 1-4pm.
URL:https://middleburystudioschool.org/event/saturday-195/
CATEGORIES:Saturday
END:VEVENT
BEGIN:VEVENT
DTSTART;TZID=UTC:20260130T100000
DTEND;TZID=UTC:20260130T160000
DTSTAMP:20260420T224620
CREATED:20251215T193515Z
LAST-MODIFIED:20251215T193515Z
UID:13923-1769767200-1769788800@middleburystudioschool.org
SUMMARY:Friday
DESCRIPTION:Studio hours are 10am-4pm.
URL:https://middleburystudioschool.org/event/friday-173/
CATEGORIES:Friday
END:VEVENT
BEGIN:VEVENT
DTSTART;TZID=UTC:20260129T120000
DTEND;TZID=UTC:20260129T143000
DTSTAMP:20260420T224620
CREATED:20251215T192428Z
LAST-MODIFIED:20251215T192428Z
UID:13915-1769688000-1769697000@middleburystudioschool.org
SUMMARY:Thursday
DESCRIPTION:Studio hours are 12-2:30pm.
URL:https://middleburystudioschool.org/event/thursday-194/
CATEGORIES:Thursday
END:VEVENT
BEGIN:VEVENT
DTSTART;TZID=UTC:20260128T180000
DTEND;TZID=UTC:20260128T203000
DTSTAMP:20260420T224620
CREATED:20251215T190726Z
LAST-MODIFIED:20251215T190726Z
UID:13907-1769623200-1769632200@middleburystudioschool.org
SUMMARY:Wednesday - Session 2
DESCRIPTION:Studio hours are 6-8:30pm.
URL:https://middleburystudioschool.org/event/wednesday-session-2-179/
CATEGORIES:Wednesday
END:VEVENT
BEGIN:VEVENT
DTSTART;TZID=UTC:20260128T090000
DTEND;TZID=UTC:20260128T120000
DTSTAMP:20260420T224620
CREATED:20251215T172706Z
LAST-MODIFIED:20251215T172706Z
UID:13895-1769590800-1769601600@middleburystudioschool.org
SUMMARY:Wednesday - Session 1
DESCRIPTION:Studio hours are 9am-12pm.
URL:https://middleburystudioschool.org/event/wednesday-session-1-179/
CATEGORIES:Wednesday
END:VEVENT
BEGIN:VEVENT
DTSTART;TZID=UTC:20260127T180000
DTEND;TZID=UTC:20260127T203000
DTSTAMP:20260420T224620
CREATED:20251215T171635Z
LAST-MODIFIED:20251215T171635Z
UID:13887-1769536800-1769545800@middleburystudioschool.org
SUMMARY:Tuesday
DESCRIPTION:Studio hours are 6-8:30pm.
URL:https://middleburystudioschool.org/event/tuesday-188/
CATEGORIES:Tuesday
END:VEVENT
BEGIN:VEVENT
DTSTART;VALUE=DATE:20260126
DTEND;VALUE=DATE:20260127
DTSTAMP:20260420T224620
CREATED:20251215T165811Z
LAST-MODIFIED:20260125T225033Z
UID:13872-1769385600-1769471999@middleburystudioschool.org
SUMMARY:STUDIO HOURS CANCELLED DUE TO SNOW
DESCRIPTION:NO STUDIO HOURS 9-12pm.
URL:https://middleburystudioschool.org/event/monday-162/
CATEGORIES:Monday
END:VEVENT
BEGIN:VEVENT
DTSTART;TZID=UTC:20260125T130000
DTEND;TZID=UTC:20260125T190000
DTSTAMP:20260420T224620
CREATED:20251215T170524Z
LAST-MODIFIED:20251215T170524Z
UID:13879-1769346000-1769367600@middleburystudioschool.org
SUMMARY:Sunday
DESCRIPTION:Studio hours are 1-7pm.
URL:https://middleburystudioschool.org/event/sunday-150/
CATEGORIES:Sunday
END:VEVENT
BEGIN:VEVENT
DTSTART;TZID=UTC:20260124T130000
DTEND;TZID=UTC:20260124T160000
DTSTAMP:20260420T224620
CREATED:20251215T195049Z
LAST-MODIFIED:20251215T195049Z
UID:13930-1769259600-1769270400@middleburystudioschool.org
SUMMARY:Saturday
DESCRIPTION:Studio hours are 1-4pm.
URL:https://middleburystudioschool.org/event/saturday-194/
CATEGORIES:Saturday
END:VEVENT
BEGIN:VEVENT
DTSTART;TZID=UTC:20260123T100000
DTEND;TZID=UTC:20260123T160000
DTSTAMP:20260420T224620
CREATED:20251215T193419Z
LAST-MODIFIED:20251215T193419Z
UID:13922-1769162400-1769184000@middleburystudioschool.org
SUMMARY:Friday
DESCRIPTION:Studio hours are 10am-4pm.
URL:https://middleburystudioschool.org/event/friday-172/
CATEGORIES:Friday
END:VEVENT
BEGIN:VEVENT
DTSTART;TZID=UTC:20260122T120000
DTEND;TZID=UTC:20260122T143000
DTSTAMP:20260420T224620
CREATED:20251215T192335Z
LAST-MODIFIED:20251215T192335Z
UID:13914-1769083200-1769092200@middleburystudioschool.org
SUMMARY:Thursday
DESCRIPTION:Studio hours are 12-2:30pm.
URL:https://middleburystudioschool.org/event/thursday-193/
CATEGORIES:Thursday
END:VEVENT
BEGIN:VEVENT
DTSTART;TZID=UTC:20260121T180000
DTEND;TZID=UTC:20260121T203000
DTSTAMP:20260420T224620
CREATED:20251215T190628Z
LAST-MODIFIED:20251215T190628Z
UID:13906-1769018400-1769027400@middleburystudioschool.org
SUMMARY:Wednesday - Session 2
DESCRIPTION:Studio hours are 6-8:30pm.
URL:https://middleburystudioschool.org/event/wednesday-session-2-178/
CATEGORIES:Wednesday
END:VEVENT
BEGIN:VEVENT
DTSTART;TZID=UTC:20260121T090000
DTEND;TZID=UTC:20260121T120000
DTSTAMP:20260420T224620
CREATED:20251215T172606Z
LAST-MODIFIED:20251215T172606Z
UID:13894-1768986000-1768996800@middleburystudioschool.org
SUMMARY:Wednesday - Session 1
DESCRIPTION:Studio hours are 9am-12pm.
URL:https://middleburystudioschool.org/event/wednesday-session-1-178/
CATEGORIES:Wednesday
END:VEVENT
END:VCALENDAR