BEGIN:VCALENDAR
VERSION:2.0
PRODID:-//Middlebury Studio School - ECPv6.15.20//NONSGML v1.0//EN
CALSCALE:GREGORIAN
METHOD:PUBLISH
X-WR-CALNAME:Middlebury Studio School
X-ORIGINAL-URL:https://middleburystudioschool.org
X-WR-CALDESC:Events for Middlebury Studio School
REFRESH-INTERVAL;VALUE=DURATION:PT1H
X-Robots-Tag:noindex
X-PUBLISHED-TTL:PT1H
BEGIN:VTIMEZONE
TZID:UTC
BEGIN:STANDARD
TZOFFSETFROM:+0000
TZOFFSETTO:+0000
TZNAME:UTC
DTSTART:20250101T000000
END:STANDARD
END:VTIMEZONE
BEGIN:VEVENT
DTSTART;TZID=UTC:20260519T180000
DTEND;TZID=UTC:20260519T203000
DTSTAMP:20260424T132217
CREATED:20260421T020946Z
LAST-MODIFIED:20260421T020946Z
UID:14407-1779213600-1779222600@middleburystudioschool.org
SUMMARY:Tuesday
DESCRIPTION:Studio Hours are 6pm-8:30pm.
URL:https://middleburystudioschool.org/event/tuesday-204/
CATEGORIES:Tuesday
END:VEVENT
BEGIN:VEVENT
DTSTART;TZID=UTC:20260520T090000
DTEND;TZID=UTC:20260520T120000
DTSTAMP:20260424T132217
CREATED:20260421T015556Z
LAST-MODIFIED:20260421T015556Z
UID:14399-1779267600-1779278400@middleburystudioschool.org
SUMMARY:Wednesday
DESCRIPTION:Studio Hours are 9am-12pm.
URL:https://middleburystudioschool.org/event/wednesday-23/
CATEGORIES:Wednesday
END:VEVENT
BEGIN:VEVENT
DTSTART;TZID=UTC:20260520T180000
DTEND;TZID=UTC:20260520T203000
DTSTAMP:20260424T132217
CREATED:20260421T020303Z
LAST-MODIFIED:20260421T020303Z
UID:14403-1779300000-1779309000@middleburystudioschool.org
SUMMARY:Wednesday - Session 2 - WHEEL ONLY
DESCRIPTION:Studio Hours are 6pm-8:30pm.
URL:https://middleburystudioschool.org/event/wednesday-session-2-wheel-only-7/
CATEGORIES:Wednesday
END:VEVENT
BEGIN:VEVENT
DTSTART;TZID=UTC:20260521T120000
DTEND;TZID=UTC:20260521T143000
DTSTAMP:20260424T132217
CREATED:20260421T015010Z
LAST-MODIFIED:20260421T015010Z
UID:14395-1779364800-1779373800@middleburystudioschool.org
SUMMARY:Thursday
DESCRIPTION:Studio Hours are 12-2:30pm.
URL:https://middleburystudioschool.org/event/thursday-210/
CATEGORIES:Thursday
END:VEVENT
BEGIN:VEVENT
DTSTART;TZID=UTC:20260522T100000
DTEND;TZID=UTC:20260522T160000
DTSTAMP:20260424T132217
CREATED:20260421T014353Z
LAST-MODIFIED:20260421T014353Z
UID:14391-1779444000-1779465600@middleburystudioschool.org
SUMMARY:Friday
DESCRIPTION:Studio Hours are 10am-4pm.
URL:https://middleburystudioschool.org/event/friday-185/
CATEGORIES:Friday
END:VEVENT
BEGIN:VEVENT
DTSTART;TZID=UTC:20260523T130000
DTEND;TZID=UTC:20260523T160000
DTSTAMP:20260424T132217
CREATED:20260420T221646Z
LAST-MODIFIED:20260420T221646Z
UID:14387-1779541200-1779552000@middleburystudioschool.org
SUMMARY:Saturday
DESCRIPTION:Studio hours will be 1pm-4pm.
URL:https://middleburystudioschool.org/event/saturday-210/
CATEGORIES:Saturday
END:VEVENT
BEGIN:VEVENT
DTSTART;TZID=UTC:20260524T130000
DTEND;TZID=UTC:20260524T190000
DTSTAMP:20260424T132217
CREATED:20260420T221108Z
LAST-MODIFIED:20260420T221108Z
UID:14383-1779627600-1779649200@middleburystudioschool.org
SUMMARY:Sunday
DESCRIPTION:Studio hours will be 1pm-7pm.
URL:https://middleburystudioschool.org/event/sunday-167/
CATEGORIES:Sunday
END:VEVENT
BEGIN:VEVENT
DTSTART;TZID=UTC:20260525T090000
DTEND;TZID=UTC:20260525T120000
DTSTAMP:20260424T132217
CREATED:20260421T021616Z
LAST-MODIFIED:20260421T021616Z
UID:14412-1779699600-1779710400@middleburystudioschool.org
SUMMARY:Monday
DESCRIPTION:Studio Hours are 9am-12pm.
URL:https://middleburystudioschool.org/event/monday-175/
CATEGORIES:Monday
END:VEVENT
BEGIN:VEVENT
DTSTART;TZID=UTC:20260526T180000
DTEND;TZID=UTC:20260526T203000
DTSTAMP:20260424T132217
CREATED:20260421T021040Z
LAST-MODIFIED:20260421T021040Z
UID:14408-1779818400-1779827400@middleburystudioschool.org
SUMMARY:Tuesday
DESCRIPTION:Studio Hours are 6pm-8:30pm.
URL:https://middleburystudioschool.org/event/tuesday-205/
CATEGORIES:Tuesday
END:VEVENT
BEGIN:VEVENT
DTSTART;TZID=UTC:20260527T090000
DTEND;TZID=UTC:20260527T120000
DTSTAMP:20260424T132217
CREATED:20260421T015641Z
LAST-MODIFIED:20260421T015641Z
UID:14400-1779872400-1779883200@middleburystudioschool.org
SUMMARY:Wednesday
DESCRIPTION:Studio Hours are 9am-12pm.
URL:https://middleburystudioschool.org/event/wednesday-24/
CATEGORIES:Wednesday
END:VEVENT
BEGIN:VEVENT
DTSTART;TZID=UTC:20260527T180000
DTEND;TZID=UTC:20260527T203000
DTSTAMP:20260424T132217
CREATED:20260421T020421Z
LAST-MODIFIED:20260421T020421Z
UID:14404-1779904800-1779913800@middleburystudioschool.org
SUMMARY:Wednesday - Session 2 - WHEEL ONLY
DESCRIPTION:Studio Hours are 6pm-8:30pm.
URL:https://middleburystudioschool.org/event/wednesday-session-2-wheel-only-8/
CATEGORIES:Wednesday
END:VEVENT
BEGIN:VEVENT
DTSTART;TZID=UTC:20260528T120000
DTEND;TZID=UTC:20260528T143000
DTSTAMP:20260424T132217
CREATED:20260421T015116Z
LAST-MODIFIED:20260421T015116Z
UID:14396-1779969600-1779978600@middleburystudioschool.org
SUMMARY:Thursday
DESCRIPTION:Studio Hours are 12-2:30pm.
URL:https://middleburystudioschool.org/event/thursday-211/
CATEGORIES:Thursday
END:VEVENT
BEGIN:VEVENT
DTSTART;TZID=UTC:20260529T100000
DTEND;TZID=UTC:20260529T160000
DTSTAMP:20260424T132217
CREATED:20260421T014527Z
LAST-MODIFIED:20260421T021847Z
UID:14392-1780048800-1780070400@middleburystudioschool.org
SUMMARY:Friday
DESCRIPTION:Studio Hours are 10am-4pm.
URL:https://middleburystudioschool.org/event/friday-189/
CATEGORIES:Friday
END:VEVENT
BEGIN:VEVENT
DTSTART;TZID=UTC:20260530T130000
DTEND;TZID=UTC:20260530T160000
DTSTAMP:20260424T132217
CREATED:20260420T221733Z
LAST-MODIFIED:20260420T221733Z
UID:14388-1780146000-1780156800@middleburystudioschool.org
SUMMARY:Saturday
DESCRIPTION:Studio hours will be 1pm-4pm.
URL:https://middleburystudioschool.org/event/saturday-211/
CATEGORIES:Saturday
END:VEVENT
BEGIN:VEVENT
DTSTART;TZID=UTC:20260531T130000
DTEND;TZID=UTC:20260531T190000
DTSTAMP:20260424T132217
CREATED:20260420T221200Z
LAST-MODIFIED:20260420T221200Z
UID:14384-1780232400-1780254000@middleburystudioschool.org
SUMMARY:Sunday
DESCRIPTION:Studio hours will be 1pm-7pm.
URL:https://middleburystudioschool.org/event/sunday-168/
CATEGORIES:Sunday
END:VEVENT
END:VCALENDAR