BEGIN:VCALENDAR
VERSION:2.0
PRODID:-//Middlebury Studio School - ECPv6.15.20//NONSGML v1.0//EN
CALSCALE:GREGORIAN
METHOD:PUBLISH
X-WR-CALNAME:Middlebury Studio School
X-ORIGINAL-URL:https://middleburystudioschool.org
X-WR-CALDESC:Events for Middlebury Studio School
REFRESH-INTERVAL;VALUE=DURATION:PT1H
X-Robots-Tag:noindex
X-PUBLISHED-TTL:PT1H
BEGIN:VTIMEZONE
TZID:UTC
BEGIN:STANDARD
TZOFFSETFROM:+0000
TZOFFSETTO:+0000
TZNAME:UTC
DTSTART:20240101T000000
END:STANDARD
END:VTIMEZONE
BEGIN:VEVENT
DTSTART;TZID=UTC:20251124T090000
DTEND;TZID=UTC:20251124T120000
DTSTAMP:20260423T115055
CREATED:20251024T182614Z
LAST-MODIFIED:20251024T182614Z
UID:13725-1763974800-1763985600@middleburystudioschool.org
SUMMARY:Monday
DESCRIPTION:Studio hours are from 9am-12pm.
URL:https://middleburystudioschool.org/event/monday-156/
CATEGORIES:Monday
END:VEVENT
BEGIN:VEVENT
DTSTART;TZID=UTC:20251123T130000
DTEND;TZID=UTC:20251123T190000
DTSTAMP:20260423T115055
CREATED:20251024T182131Z
LAST-MODIFIED:20251024T182131Z
UID:13720-1763902800-1763924400@middleburystudioschool.org
SUMMARY:Sunday
DESCRIPTION:Studio hours are from 1 – 7pm.
URL:https://middleburystudioschool.org/event/sunday-142/
CATEGORIES:Sunday
END:VEVENT
BEGIN:VEVENT
DTSTART;TZID=UTC:20251122T130000
DTEND;TZID=UTC:20251122T160000
DTSTAMP:20260423T115055
CREATED:20251024T181658Z
LAST-MODIFIED:20251024T181658Z
UID:13715-1763816400-1763827200@middleburystudioschool.org
SUMMARY:Saturday
DESCRIPTION:Studio hours are from 1 – 4pm.
URL:https://middleburystudioschool.org/event/saturday-186/
CATEGORIES:Saturday
END:VEVENT
BEGIN:VEVENT
DTSTART;TZID=UTC:20251121T100000
DTEND;TZID=UTC:20251121T160000
DTSTAMP:20260423T115055
CREATED:20251024T190458Z
LAST-MODIFIED:20251024T190458Z
UID:13744-1763719200-1763740800@middleburystudioschool.org
SUMMARY:Friday
DESCRIPTION:Studio hours are from 10am – 4pm.
URL:https://middleburystudioschool.org/event/friday-164/
CATEGORIES:Friday
END:VEVENT
BEGIN:VEVENT
DTSTART;TZID=UTC:20251120T120000
DTEND;TZID=UTC:20251120T143000
DTSTAMP:20260423T115055
CREATED:20251024T190125Z
LAST-MODIFIED:20251024T190125Z
UID:13741-1763640000-1763649000@middleburystudioschool.org
SUMMARY:Thursday
DESCRIPTION:Studio hours are from 12 – 2:30pm.
URL:https://middleburystudioschool.org/event/thursday-187/
CATEGORIES:Thursday
END:VEVENT
BEGIN:VEVENT
DTSTART;TZID=UTC:20251119T180000
DTEND;TZID=UTC:20251119T203000
DTSTAMP:20260423T115055
CREATED:20251024T185507Z
LAST-MODIFIED:20251024T185507Z
UID:13736-1763575200-1763584200@middleburystudioschool.org
SUMMARY:Wednesday - Session 2
DESCRIPTION:Studio hours are from 6 – 8:30pm.
URL:https://middleburystudioschool.org/event/wednesday-session-2-171/
CATEGORIES:Wednesday
END:VEVENT
BEGIN:VEVENT
DTSTART;TZID=UTC:20251119T090000
DTEND;TZID=UTC:20251119T120000
DTSTAMP:20260423T115055
CREATED:20251024T185021Z
LAST-MODIFIED:20251024T185021Z
UID:13732-1763542800-1763553600@middleburystudioschool.org
SUMMARY:Wednesday - Session 1
DESCRIPTION:Studio hours are from 9am – 12pm.
URL:https://middleburystudioschool.org/event/wednesday-session-1-171/
CATEGORIES:Wednesday
END:VEVENT
BEGIN:VEVENT
DTSTART;TZID=UTC:20251118T180000
DTEND;TZID=UTC:20251118T203000
DTSTAMP:20260423T115055
CREATED:20251024T184557Z
LAST-MODIFIED:20251024T184557Z
UID:13728-1763488800-1763497800@middleburystudioschool.org
SUMMARY:Tuesday
DESCRIPTION:Studio hours are from 6 – 8:30pm.
URL:https://middleburystudioschool.org/event/tuesday-179/
CATEGORIES:Tuesday
END:VEVENT
BEGIN:VEVENT
DTSTART;VALUE=DATE:20251117
DTEND;VALUE=DATE:20251118
DTSTAMP:20260423T115055
CREATED:20251024T182525Z
LAST-MODIFIED:20251024T184009Z
UID:13724-1763337600-1763423999@middleburystudioschool.org
SUMMARY:Monday - No Studio Hours
DESCRIPTION:
URL:https://middleburystudioschool.org/event/monday-154/
CATEGORIES:Monday
END:VEVENT
BEGIN:VEVENT
DTSTART;TZID=UTC:20251116T130000
DTEND;TZID=UTC:20251116T190000
DTSTAMP:20260423T115055
CREATED:20251024T182033Z
LAST-MODIFIED:20251024T182033Z
UID:13719-1763298000-1763319600@middleburystudioschool.org
SUMMARY:Sunday
DESCRIPTION:Studio hours are from 1 – 7pm.
URL:https://middleburystudioschool.org/event/sunday-141/
CATEGORIES:Sunday
END:VEVENT
BEGIN:VEVENT
DTSTART;TZID=UTC:20251115T130000
DTEND;TZID=UTC:20251115T160000
DTSTAMP:20260423T115055
CREATED:20251024T181605Z
LAST-MODIFIED:20251024T181605Z
UID:13714-1763211600-1763222400@middleburystudioschool.org
SUMMARY:Saturday
DESCRIPTION:Studio hours are from 1 – 4pm.
URL:https://middleburystudioschool.org/event/saturday-185/
CATEGORIES:Saturday
END:VEVENT
BEGIN:VEVENT
DTSTART;TZID=UTC:20251114T100000
DTEND;TZID=UTC:20251114T160000
DTSTAMP:20260423T115055
CREATED:20251024T190414Z
LAST-MODIFIED:20251024T190414Z
UID:13743-1763114400-1763136000@middleburystudioschool.org
SUMMARY:Friday
DESCRIPTION:Studio hours are from 10am – 4pm.
URL:https://middleburystudioschool.org/event/friday-163/
CATEGORIES:Friday
END:VEVENT
BEGIN:VEVENT
DTSTART;TZID=UTC:20251113T120000
DTEND;TZID=UTC:20251113T143000
DTSTAMP:20260423T115055
CREATED:20251024T190032Z
LAST-MODIFIED:20251024T190032Z
UID:13740-1763035200-1763044200@middleburystudioschool.org
SUMMARY:Thursday
DESCRIPTION:Studio hours are from 12 – 2:30pm.
URL:https://middleburystudioschool.org/event/thursday-186/
CATEGORIES:Thursday
END:VEVENT
BEGIN:VEVENT
DTSTART;TZID=UTC:20251112T180000
DTEND;TZID=UTC:20251112T203000
DTSTAMP:20260423T115055
CREATED:20251024T185410Z
LAST-MODIFIED:20251024T185410Z
UID:13735-1762970400-1762979400@middleburystudioschool.org
SUMMARY:Wednesday - Session 2
DESCRIPTION:Studio hours are from 6 – 8:30pm.
URL:https://middleburystudioschool.org/event/wednesday-session-2-170/
CATEGORIES:Wednesday
END:VEVENT
BEGIN:VEVENT
DTSTART;TZID=UTC:20251112T090000
DTEND;TZID=UTC:20251112T120000
DTSTAMP:20260423T115055
CREATED:20251024T184936Z
LAST-MODIFIED:20251024T184936Z
UID:13731-1762938000-1762948800@middleburystudioschool.org
SUMMARY:Wednesday - Session 1
DESCRIPTION:Studio hours are from 9am – 12pm.
URL:https://middleburystudioschool.org/event/wednesday-session-1-170/
CATEGORIES:Wednesday
END:VEVENT
BEGIN:VEVENT
DTSTART;TZID=UTC:20251111T180000
DTEND;TZID=UTC:20251111T203000
DTSTAMP:20260423T115055
CREATED:20251024T184437Z
LAST-MODIFIED:20251024T184437Z
UID:13727-1762884000-1762893000@middleburystudioschool.org
SUMMARY:Tuesday
DESCRIPTION:Studio hours are from 6 – 8:30pm.
URL:https://middleburystudioschool.org/event/tuesday-178/
CATEGORIES:Tuesday
END:VEVENT
BEGIN:VEVENT
DTSTART;VALUE=DATE:20251110
DTEND;VALUE=DATE:20251111
DTSTAMP:20260423T115055
CREATED:20251024T182442Z
LAST-MODIFIED:20251024T183906Z
UID:13723-1762732800-1762819199@middleburystudioschool.org
SUMMARY:Monday - No Studio Hours
DESCRIPTION:.
URL:https://middleburystudioschool.org/event/monday-152/
CATEGORIES:Monday
END:VEVENT
BEGIN:VEVENT
DTSTART;TZID=UTC:20251109T130000
DTEND;TZID=UTC:20251109T190000
DTSTAMP:20260423T115055
CREATED:20251024T181949Z
LAST-MODIFIED:20251024T181949Z
UID:13718-1762693200-1762714800@middleburystudioschool.org
SUMMARY:Sunday
DESCRIPTION:Studio hours are from 1 – 7pm.
URL:https://middleburystudioschool.org/event/sunday-140/
CATEGORIES:Sunday
END:VEVENT
BEGIN:VEVENT
DTSTART;TZID=UTC:20251108T130000
DTEND;TZID=UTC:20251108T160000
DTSTAMP:20260423T115055
CREATED:20251024T181516Z
LAST-MODIFIED:20251024T181516Z
UID:13713-1762606800-1762617600@middleburystudioschool.org
SUMMARY:Saturday
DESCRIPTION:Studio hours are from 1 – 4pm.
URL:https://middleburystudioschool.org/event/saturday-184/
CATEGORIES:Saturday
END:VEVENT
BEGIN:VEVENT
DTSTART;TZID=UTC:20251107T100000
DTEND;TZID=UTC:20251107T160000
DTSTAMP:20260423T115055
CREATED:20251024T190335Z
LAST-MODIFIED:20251024T190335Z
UID:13742-1762509600-1762531200@middleburystudioschool.org
SUMMARY:Friday
DESCRIPTION:Studio hours are from 10am – 4pm.
URL:https://middleburystudioschool.org/event/friday-162/
CATEGORIES:Friday
END:VEVENT
BEGIN:VEVENT
DTSTART;TZID=UTC:20251106T120000
DTEND;TZID=UTC:20251106T143000
DTSTAMP:20260423T115055
CREATED:20251024T185939Z
LAST-MODIFIED:20251024T185939Z
UID:13739-1762430400-1762439400@middleburystudioschool.org
SUMMARY:Thursday
DESCRIPTION:Studio hours are from 12 – 2:30pm.
URL:https://middleburystudioschool.org/event/thursday-185/
CATEGORIES:Thursday
END:VEVENT
BEGIN:VEVENT
DTSTART;TZID=UTC:20251105T180000
DTEND;TZID=UTC:20251105T203000
DTSTAMP:20260423T115055
CREATED:20251024T185315Z
LAST-MODIFIED:20251024T185315Z
UID:13734-1762365600-1762374600@middleburystudioschool.org
SUMMARY:Wednesday - Session 2
DESCRIPTION:Studio hours are from 6 – 8:30pm.
URL:https://middleburystudioschool.org/event/wednesday-session-2-169/
CATEGORIES:Wednesday
END:VEVENT
BEGIN:VEVENT
DTSTART;TZID=UTC:20251105T090000
DTEND;TZID=UTC:20251105T120000
DTSTAMP:20260423T115055
CREATED:20251024T184843Z
LAST-MODIFIED:20251024T184843Z
UID:13730-1762333200-1762344000@middleburystudioschool.org
SUMMARY:Wednesday - Session 1
DESCRIPTION:Studio hours are from 9am – 12pm.
URL:https://middleburystudioschool.org/event/wednesday-session-1-169/
CATEGORIES:Wednesday
END:VEVENT
BEGIN:VEVENT
DTSTART;TZID=UTC:20251104T180000
DTEND;TZID=UTC:20251104T203000
DTSTAMP:20260423T115055
CREATED:20251024T184347Z
LAST-MODIFIED:20251024T184347Z
UID:13726-1762279200-1762288200@middleburystudioschool.org
SUMMARY:Tuesday
DESCRIPTION:Studio hours are from 6 – 8:30pm.
URL:https://middleburystudioschool.org/event/tuesday-177/
CATEGORIES:Tuesday
END:VEVENT
BEGIN:VEVENT
DTSTART;VALUE=DATE:20251103
DTEND;VALUE=DATE:20251104
DTSTAMP:20260423T115055
CREATED:20251024T182353Z
LAST-MODIFIED:20251024T183713Z
UID:13722-1762128000-1762214399@middleburystudioschool.org
SUMMARY:Monday - No Studio Hours
DESCRIPTION:Studio hours are from 9am-12pm.
URL:https://middleburystudioschool.org/event/monday-151/
CATEGORIES:Monday
END:VEVENT
BEGIN:VEVENT
DTSTART;TZID=UTC:20251102T130000
DTEND;TZID=UTC:20251102T190000
DTSTAMP:20260423T115055
CREATED:20251024T181857Z
LAST-MODIFIED:20251024T181857Z
UID:13717-1762088400-1762110000@middleburystudioschool.org
SUMMARY:Sunday
DESCRIPTION:Studio hours are from 1 – 7pm.
URL:https://middleburystudioschool.org/event/sunday-139/
CATEGORIES:Sunday
END:VEVENT
BEGIN:VEVENT
DTSTART;TZID=UTC:20251101T130000
DTEND;TZID=UTC:20251101T160000
DTSTAMP:20260423T115055
CREATED:20251024T181429Z
LAST-MODIFIED:20251024T181429Z
UID:13712-1762002000-1762012800@middleburystudioschool.org
SUMMARY:Saturday
DESCRIPTION:Studio hours are from 1 – 4pm.
URL:https://middleburystudioschool.org/event/saturday-183/
CATEGORIES:Saturday
END:VEVENT
BEGIN:VEVENT
DTSTART;TZID=UTC:20251031T100000
DTEND;TZID=UTC:20251031T160000
DTSTAMP:20260423T115055
CREATED:20250910T163944Z
LAST-MODIFIED:20250910T163944Z
UID:13588-1761904800-1761926400@middleburystudioschool.org
SUMMARY:Friday
DESCRIPTION:Studio hours are from 10am – 4pm.
URL:https://middleburystudioschool.org/event/friday-161/
CATEGORIES:Friday
END:VEVENT
BEGIN:VEVENT
DTSTART;TZID=UTC:20251030T120000
DTEND;TZID=UTC:20251030T143000
DTSTAMP:20260423T115055
CREATED:20250910T163251Z
LAST-MODIFIED:20250910T163251Z
UID:13583-1761825600-1761834600@middleburystudioschool.org
SUMMARY:Thursday
DESCRIPTION:Studio hours are from 12pm – 2:30pm.
URL:https://middleburystudioschool.org/event/thursday-183/
CATEGORIES:Thursday
END:VEVENT
BEGIN:VEVENT
DTSTART;TZID=UTC:20251029T180000
DTEND;TZID=UTC:20251029T203000
DTSTAMP:20260423T115055
CREATED:20250910T173421Z
LAST-MODIFIED:20250910T173421Z
UID:13610-1761760800-1761769800@middleburystudioschool.org
SUMMARY:Wednesday - Session 2 - WHEEL ONLY
DESCRIPTION:Studio hours are from 6pm-8:30pm.
URL:https://middleburystudioschool.org/event/wednesday-session-2-wheel-only-5/
CATEGORIES:Wednesday
END:VEVENT
END:VCALENDAR