BEGIN:VCALENDAR
VERSION:2.0
PRODID:-//Middlebury Studio School - ECPv6.15.20//NONSGML v1.0//EN
CALSCALE:GREGORIAN
METHOD:PUBLISH
X-WR-CALNAME:Middlebury Studio School
X-ORIGINAL-URL:https://middleburystudioschool.org
X-WR-CALDESC:Events for Middlebury Studio School
REFRESH-INTERVAL;VALUE=DURATION:PT1H
X-Robots-Tag:noindex
X-PUBLISHED-TTL:PT1H
BEGIN:VTIMEZONE
TZID:UTC
BEGIN:STANDARD
TZOFFSETFROM:+0000
TZOFFSETTO:+0000
TZNAME:UTC
DTSTART:20240101T000000
END:STANDARD
END:VTIMEZONE
BEGIN:VEVENT
DTSTART;TZID=UTC:20250906T130000
DTEND;TZID=UTC:20250906T160000
DTSTAMP:20260421T160357
CREATED:20250803T150048Z
LAST-MODIFIED:20250803T150048Z
UID:13467-1757163600-1757174400@middleburystudioschool.org
SUMMARY:Saturday
DESCRIPTION:Studio hours are from 1-4pm.
URL:https://middleburystudioschool.org/event/saturday-176/
CATEGORIES:Saturday
END:VEVENT
BEGIN:VEVENT
DTSTART;TZID=UTC:20250905T100000
DTEND;TZID=UTC:20250905T160000
DTSTAMP:20260421T160357
CREATED:20250803T145140Z
LAST-MODIFIED:20250803T145140Z
UID:13461-1757066400-1757088000@middleburystudioschool.org
SUMMARY:Friday
DESCRIPTION:Studio hours are from 10am-4pm.
URL:https://middleburystudioschool.org/event/friday-152/
CATEGORIES:Friday
END:VEVENT
BEGIN:VEVENT
DTSTART;TZID=UTC:20250904T120000
DTEND;TZID=UTC:20250904T143000
DTSTAMP:20260421T160357
CREATED:20250803T142247Z
LAST-MODIFIED:20250803T142247Z
UID:13454-1756987200-1756996200@middleburystudioschool.org
SUMMARY:Thursday
DESCRIPTION:Studio hours are from 12-2:30pm.
URL:https://middleburystudioschool.org/event/thursday-175/
CATEGORIES:Thursday
END:VEVENT
BEGIN:VEVENT
DTSTART;TZID=UTC:20250903T180000
DTEND;TZID=UTC:20250903T203000
DTSTAMP:20260421T160357
CREATED:20250802T172919Z
LAST-MODIFIED:20250802T172919Z
UID:13449-1756922400-1756931400@middleburystudioschool.org
SUMMARY:Wednesday - Session 2
DESCRIPTION:Studio hours are from 6:00pm-8:30pm.
URL:https://middleburystudioschool.org/event/wednesday-session-2-165/
CATEGORIES:Wednesday
END:VEVENT
BEGIN:VEVENT
DTSTART;TZID=UTC:20250903T090000
DTEND;TZID=UTC:20250903T120000
DTSTAMP:20260421T160357
CREATED:20250802T172248Z
LAST-MODIFIED:20250802T172248Z
UID:13445-1756890000-1756900800@middleburystudioschool.org
SUMMARY:Wednesday - Session 1
DESCRIPTION:Studio hours are from 9am-12pm.
URL:https://middleburystudioschool.org/event/wednesday-session-1-160/
CATEGORIES:Wednesday
END:VEVENT
BEGIN:VEVENT
DTSTART;TZID=UTC:20250902T180000
DTEND;TZID=UTC:20250902T203000
DTSTAMP:20260421T160357
CREATED:20250802T141713Z
LAST-MODIFIED:20250802T141713Z
UID:13440-1756836000-1756845000@middleburystudioschool.org
SUMMARY:Tuesday
DESCRIPTION:Studio hours are from 6-8:30pm.
URL:https://middleburystudioschool.org/event/tuesday-168/
CATEGORIES:Tuesday
END:VEVENT
BEGIN:VEVENT
DTSTART;VALUE=DATE:20250901
DTEND;VALUE=DATE:20250902
DTSTAMP:20260421T160357
CREATED:20250731T210236Z
LAST-MODIFIED:20250831T143253Z
UID:13430-1756684800-1756771199@middleburystudioschool.org
SUMMARY:Studio Closed for Labor Day
DESCRIPTION:Studio closed for Labor Day.
URL:https://middleburystudioschool.org/event/monday-142/
CATEGORIES:Monday
END:VEVENT
BEGIN:VEVENT
DTSTART;TZID=UTC:20250831T140000
DTEND;TZID=UTC:20250831T200000
DTSTAMP:20260421T160357
CREATED:20250612T185612Z
LAST-MODIFIED:20250612T185612Z
UID:13316-1756648800-1756670400@middleburystudioschool.org
SUMMARY:Sunday
DESCRIPTION:Studio hours are from 2-8pm.
URL:https://middleburystudioschool.org/event/sunday-130/
CATEGORIES:Sunday
END:VEVENT
BEGIN:VEVENT
DTSTART;TZID=UTC:20250830T130000
DTEND;TZID=UTC:20250830T160000
DTSTAMP:20260421T160357
CREATED:20250617T152834Z
LAST-MODIFIED:20250617T152834Z
UID:13348-1756558800-1756569600@middleburystudioschool.org
SUMMARY:Saturday
DESCRIPTION:Studio hours are from 1-4pm.
URL:https://middleburystudioschool.org/event/saturday-175/
CATEGORIES:Saturday
END:VEVENT
BEGIN:VEVENT
DTSTART;TZID=UTC:20250829T100000
DTEND;TZID=UTC:20250829T160000
DTSTAMP:20260421T160357
CREATED:20250617T152236Z
LAST-MODIFIED:20250617T152236Z
UID:13344-1756461600-1756483200@middleburystudioschool.org
SUMMARY:Friday
DESCRIPTION:Studio hours are from 10-4pm.
URL:https://middleburystudioschool.org/event/friday-151/
CATEGORIES:Friday
END:VEVENT
BEGIN:VEVENT
DTSTART;TZID=UTC:20250828T120000
DTEND;TZID=UTC:20250828T143000
DTSTAMP:20260421T160357
CREATED:20250617T151734Z
LAST-MODIFIED:20250617T151734Z
UID:13340-1756382400-1756391400@middleburystudioschool.org
SUMMARY:Thursday
DESCRIPTION:Studio hours are from 12-2:30pm.
URL:https://middleburystudioschool.org/event/thursday-174/
CATEGORIES:Thursday
END:VEVENT
BEGIN:VEVENT
DTSTART;TZID=UTC:20250827T180000
DTEND;TZID=UTC:20250827T203000
DTSTAMP:20260421T160357
CREATED:20250617T153459Z
LAST-MODIFIED:20250617T153459Z
UID:13352-1756317600-1756326600@middleburystudioschool.org
SUMMARY:Wednesday - Session 2
DESCRIPTION:Studio hours are from 1-4pm.
URL:https://middleburystudioschool.org/event/wednesday-session-2-164/
CATEGORIES:Wednesday
END:VEVENT
BEGIN:VEVENT
DTSTART;TZID=UTC:20250827T090000
DTEND;TZID=UTC:20250827T120000
DTSTAMP:20260421T160357
CREATED:20250612T192148Z
LAST-MODIFIED:20250612T192148Z
UID:13329-1756285200-1756296000@middleburystudioschool.org
SUMMARY:Wednesday - Session 1
DESCRIPTION:Studio hours are from 9am-12pm.
URL:https://middleburystudioschool.org/event/wednesday-session-1-159/
CATEGORIES:Wednesday
END:VEVENT
BEGIN:VEVENT
DTSTART;TZID=UTC:20250826T180000
DTEND;TZID=UTC:20250826T203000
DTSTAMP:20260421T160357
CREATED:20250612T191404Z
LAST-MODIFIED:20250612T191404Z
UID:13325-1756231200-1756240200@middleburystudioschool.org
SUMMARY:Tuesday
DESCRIPTION:Studio hours are from 6-8:30pm.
URL:https://middleburystudioschool.org/event/tuesday-167/
CATEGORIES:Tuesday
END:VEVENT
BEGIN:VEVENT
DTSTART;TZID=UTC:20250825T090000
DTEND;TZID=UTC:20250825T120000
DTSTAMP:20260421T160357
CREATED:20250612T190531Z
LAST-MODIFIED:20250612T190531Z
UID:13321-1756112400-1756123200@middleburystudioschool.org
SUMMARY:Monday
DESCRIPTION:Studio hours are from 9am-12pm.
URL:https://middleburystudioschool.org/event/monday-141/
CATEGORIES:Monday
END:VEVENT
BEGIN:VEVENT
DTSTART;TZID=UTC:20250824T140000
DTEND;TZID=UTC:20250824T200000
DTSTAMP:20260421T160357
CREATED:20250612T185436Z
LAST-MODIFIED:20250612T185436Z
UID:13315-1756044000-1756065600@middleburystudioschool.org
SUMMARY:Sunday
DESCRIPTION:Studio hours are from 2-8pm.
URL:https://middleburystudioschool.org/event/sunday-129/
CATEGORIES:Sunday
END:VEVENT
BEGIN:VEVENT
DTSTART;TZID=UTC:20250823T130000
DTEND;TZID=UTC:20250823T160000
DTSTAMP:20260421T160357
CREATED:20250617T152745Z
LAST-MODIFIED:20250617T152745Z
UID:13347-1755954000-1755964800@middleburystudioschool.org
SUMMARY:Saturday
DESCRIPTION:Studio hours are from 1-4pm.
URL:https://middleburystudioschool.org/event/saturday-174/
CATEGORIES:Saturday
END:VEVENT
BEGIN:VEVENT
DTSTART;TZID=UTC:20250822T100000
DTEND;TZID=UTC:20250822T160000
DTSTAMP:20260421T160357
CREATED:20250617T152142Z
LAST-MODIFIED:20250617T152142Z
UID:13343-1755856800-1755878400@middleburystudioschool.org
SUMMARY:Friday
DESCRIPTION:Studio hours are from 10-4pm.
URL:https://middleburystudioschool.org/event/friday-150/
CATEGORIES:Friday
END:VEVENT
BEGIN:VEVENT
DTSTART;TZID=UTC:20250821T120000
DTEND;TZID=UTC:20250821T143000
DTSTAMP:20260421T160357
CREATED:20250617T151613Z
LAST-MODIFIED:20250617T151613Z
UID:13339-1755777600-1755786600@middleburystudioschool.org
SUMMARY:Thursday
DESCRIPTION:Studio hours are from 12-2:30pm.
URL:https://middleburystudioschool.org/event/thursday-173/
CATEGORIES:Thursday
END:VEVENT
BEGIN:VEVENT
DTSTART;TZID=UTC:20250820T180000
DTEND;TZID=UTC:20250820T203000
DTSTAMP:20260421T160357
CREATED:20250617T153356Z
LAST-MODIFIED:20250617T153651Z
UID:13351-1755712800-1755721800@middleburystudioschool.org
SUMMARY:Wednesday - Session 2
DESCRIPTION:Studio hours are from 6-8:30pm.
URL:https://middleburystudioschool.org/event/wednesday-session-2-163/
CATEGORIES:Wednesday
END:VEVENT
BEGIN:VEVENT
DTSTART;TZID=UTC:20250820T090000
DTEND;TZID=UTC:20250820T120000
DTSTAMP:20260421T160357
CREATED:20250612T191959Z
LAST-MODIFIED:20250612T191959Z
UID:13328-1755680400-1755691200@middleburystudioschool.org
SUMMARY:Wednesday - Session 1
DESCRIPTION:Studio hours are from 9am-12pm.
URL:https://middleburystudioschool.org/event/wednesday-session-1-158/
CATEGORIES:Wednesday
END:VEVENT
BEGIN:VEVENT
DTSTART;TZID=UTC:20250819T180000
DTEND;TZID=UTC:20250819T203000
DTSTAMP:20260421T160357
CREATED:20250612T191144Z
LAST-MODIFIED:20250612T191144Z
UID:13324-1755626400-1755635400@middleburystudioschool.org
SUMMARY:Tuesday
DESCRIPTION:Studio hours are from 6-8:30pm.
URL:https://middleburystudioschool.org/event/tuesday-166/
CATEGORIES:Tuesday
END:VEVENT
BEGIN:VEVENT
DTSTART;TZID=UTC:20250818T090000
DTEND;TZID=UTC:20250818T120000
DTSTAMP:20260421T160357
CREATED:20250612T190406Z
LAST-MODIFIED:20250612T190406Z
UID:13320-1755507600-1755518400@middleburystudioschool.org
SUMMARY:Monday
DESCRIPTION:Studio hours are from 9am-12pm.Studio hours are from 9am-12pm.
URL:https://middleburystudioschool.org/event/monday-140/
CATEGORIES:Monday
END:VEVENT
BEGIN:VEVENT
DTSTART;TZID=UTC:20250817T140000
DTEND;TZID=UTC:20250817T200000
DTSTAMP:20260421T160357
CREATED:20250612T185752Z
LAST-MODIFIED:20250612T185752Z
UID:13317-1755439200-1755460800@middleburystudioschool.org
SUMMARY:Sunday
DESCRIPTION:Studio hours are from 2-8pm.
URL:https://middleburystudioschool.org/event/sunday-131/
CATEGORIES:Sunday
END:VEVENT
BEGIN:VEVENT
DTSTART;TZID=UTC:20250816T130000
DTEND;TZID=UTC:20250816T160000
DTSTAMP:20260421T160357
CREATED:20250617T152653Z
LAST-MODIFIED:20250617T152653Z
UID:13346-1755349200-1755360000@middleburystudioschool.org
SUMMARY:Saturday
DESCRIPTION:Studio hours are from 1-4pm.
URL:https://middleburystudioschool.org/event/saturday-173/
CATEGORIES:Saturday
END:VEVENT
BEGIN:VEVENT
DTSTART;TZID=UTC:20250815T100000
DTEND;TZID=UTC:20250815T160000
DTSTAMP:20260421T160357
CREATED:20250617T152026Z
LAST-MODIFIED:20250617T152026Z
UID:13342-1755252000-1755273600@middleburystudioschool.org
SUMMARY:Friday
DESCRIPTION:Studio hours are from 10-4pm.
URL:https://middleburystudioschool.org/event/friday-149/
CATEGORIES:Friday
END:VEVENT
BEGIN:VEVENT
DTSTART;TZID=UTC:20250814T120000
DTEND;TZID=UTC:20250814T143000
DTSTAMP:20260421T160357
CREATED:20250617T151527Z
LAST-MODIFIED:20250617T151527Z
UID:13338-1755172800-1755181800@middleburystudioschool.org
SUMMARY:Thursday
DESCRIPTION:Studio hours are from 12-2:30pm.
URL:https://middleburystudioschool.org/event/thursday-172/
CATEGORIES:Thursday
END:VEVENT
BEGIN:VEVENT
DTSTART;TZID=UTC:20250813T180000
DTEND;TZID=UTC:20250813T203000
DTSTAMP:20260421T160357
CREATED:20250617T153249Z
LAST-MODIFIED:20250617T153249Z
UID:13350-1755108000-1755117000@middleburystudioschool.org
SUMMARY:Wednesday - Session 2
DESCRIPTION:Studio hours are from 1-4pm.
URL:https://middleburystudioschool.org/event/wednesday-session-2-162/
CATEGORIES:Wednesday
END:VEVENT
BEGIN:VEVENT
DTSTART;TZID=UTC:20250813T090000
DTEND;TZID=UTC:20250813T120000
DTSTAMP:20260421T160357
CREATED:20250612T191827Z
LAST-MODIFIED:20250612T191827Z
UID:13327-1755075600-1755086400@middleburystudioschool.org
SUMMARY:Wednesday - Session 1
DESCRIPTION:Studio hours are from 9am-12pm.
URL:https://middleburystudioschool.org/event/wednesday-session-1-157/
CATEGORIES:Wednesday
END:VEVENT
BEGIN:VEVENT
DTSTART;TZID=UTC:20250812T180000
DTEND;TZID=UTC:20250812T203000
DTSTAMP:20260421T160357
CREATED:20250612T190921Z
LAST-MODIFIED:20250612T190921Z
UID:13323-1755021600-1755030600@middleburystudioschool.org
SUMMARY:Tuesday
DESCRIPTION:Studio hours are from 6-8:30pm.
URL:https://middleburystudioschool.org/event/tuesday-165/
CATEGORIES:Tuesday
END:VEVENT
END:VCALENDAR