BEGIN:VCALENDAR
VERSION:2.0
PRODID:-//Middlebury Studio School - ECPv6.15.20//NONSGML v1.0//EN
CALSCALE:GREGORIAN
METHOD:PUBLISH
X-WR-CALNAME:Middlebury Studio School
X-ORIGINAL-URL:https://middleburystudioschool.org
X-WR-CALDESC:Events for Middlebury Studio School
REFRESH-INTERVAL;VALUE=DURATION:PT1H
X-Robots-Tag:noindex
X-PUBLISHED-TTL:PT1H
BEGIN:VTIMEZONE
TZID:UTC
BEGIN:STANDARD
TZOFFSETFROM:+0000
TZOFFSETTO:+0000
TZNAME:UTC
DTSTART:20230101T000000
END:STANDARD
END:VTIMEZONE
BEGIN:VEVENT
DTSTART;TZID=UTC:20240925T180000
DTEND;TZID=UTC:20240925T203000
DTSTAMP:20260421T124000
CREATED:20240814T180249Z
LAST-MODIFIED:20240814T180249Z
UID:12277-1727287200-1727296200@middleburystudioschool.org
SUMMARY:Wednesday - Session 2
DESCRIPTION:Open studio hours are from 6-8:30pm.
URL:https://middleburystudioschool.org/event/wednesday-session-2-117/
CATEGORIES:Wednesday
END:VEVENT
BEGIN:VEVENT
DTSTART;TZID=UTC:20240925T090000
DTEND;TZID=UTC:20240925T120000
DTSTAMP:20260421T124000
CREATED:20240814T175442Z
LAST-MODIFIED:20240814T175442Z
UID:12273-1727254800-1727265600@middleburystudioschool.org
SUMMARY:Wednesday - Session 1
DESCRIPTION:Open studio hours are from 9am-12pm.
URL:https://middleburystudioschool.org/event/wednesday-session-1-115/
CATEGORIES:Wednesday
END:VEVENT
BEGIN:VEVENT
DTSTART;TZID=UTC:20240924T180000
DTEND;TZID=UTC:20240924T203000
DTSTAMP:20260421T124000
CREATED:20240814T174357Z
LAST-MODIFIED:20240814T174357Z
UID:12267-1727200800-1727209800@middleburystudioschool.org
SUMMARY:Tuesday
DESCRIPTION:Open studio hours are from 6-8:30pm.
URL:https://middleburystudioschool.org/event/tuesday-121/
CATEGORIES:Tuesday
END:VEVENT
BEGIN:VEVENT
DTSTART;TZID=UTC:20240922T140000
DTEND;TZID=UTC:20240922T200000
DTSTAMP:20260421T124000
CREATED:20240814T172747Z
LAST-MODIFIED:20240814T172747Z
UID:12256-1727013600-1727035200@middleburystudioschool.org
SUMMARY:Sunday
DESCRIPTION:Open studio hours are from 2-8pm.
URL:https://middleburystudioschool.org/event/sunday-84/
CATEGORIES:Sunday
END:VEVENT
BEGIN:VEVENT
DTSTART;TZID=UTC:20240921T130000
DTEND;TZID=UTC:20240921T160000
DTSTAMP:20260421T124000
CREATED:20240814T181953Z
LAST-MODIFIED:20240814T181953Z
UID:12288-1726923600-1726934400@middleburystudioschool.org
SUMMARY:Saturday
DESCRIPTION:Open studio hours are from 1:00-4:00pm.
URL:https://middleburystudioschool.org/event/saturday-127/
CATEGORIES:Saturday
END:VEVENT
BEGIN:VEVENT
DTSTART;TZID=UTC:20240920T100000
DTEND;TZID=UTC:20240920T160000
DTSTAMP:20260421T124000
CREATED:20240814T181354Z
LAST-MODIFIED:20240814T181354Z
UID:12284-1726826400-1726848000@middleburystudioschool.org
SUMMARY:Friday
DESCRIPTION:Open studio hours are from 10am-4:00pm.
URL:https://middleburystudioschool.org/event/friday-102/
CATEGORIES:Friday
END:VEVENT
BEGIN:VEVENT
DTSTART;TZID=UTC:20240919T120000
DTEND;TZID=UTC:20240919T143000
DTSTAMP:20260421T124000
CREATED:20240814T180835Z
LAST-MODIFIED:20240814T180835Z
UID:12280-1726747200-1726756200@middleburystudioschool.org
SUMMARY:Thursday
DESCRIPTION:Open studio hours are from 12-2:30pm.
URL:https://middleburystudioschool.org/event/thursday-127/
CATEGORIES:Thursday
END:VEVENT
BEGIN:VEVENT
DTSTART;TZID=UTC:20240918T180000
DTEND;TZID=UTC:20240918T203000
DTSTAMP:20260421T124000
CREATED:20240814T180129Z
LAST-MODIFIED:20240814T180129Z
UID:12276-1726682400-1726691400@middleburystudioschool.org
SUMMARY:Wednesday - Session 2
DESCRIPTION:Open studio hours are from 6-8:30pm.
URL:https://middleburystudioschool.org/event/wednesday-session-2-116/
CATEGORIES:Wednesday
END:VEVENT
BEGIN:VEVENT
DTSTART;TZID=UTC:20240918T090000
DTEND;TZID=UTC:20240918T120000
DTSTAMP:20260421T124000
CREATED:20240814T175341Z
LAST-MODIFIED:20240814T175341Z
UID:12272-1726650000-1726660800@middleburystudioschool.org
SUMMARY:Wednesday - Session 1
DESCRIPTION:Open studio hours are from 9am-12pm.
URL:https://middleburystudioschool.org/event/wednesday-session-1-114/
CATEGORIES:Wednesday
END:VEVENT
BEGIN:VEVENT
DTSTART;TZID=UTC:20240917T180000
DTEND;TZID=UTC:20240917T203000
DTSTAMP:20260421T124000
CREATED:20240814T174304Z
LAST-MODIFIED:20240814T174304Z
UID:12266-1726596000-1726605000@middleburystudioschool.org
SUMMARY:Tuesday
DESCRIPTION:Open studio hours are from 6-8:30pm.
URL:https://middleburystudioschool.org/event/tuesday-120/
CATEGORIES:Tuesday
END:VEVENT
BEGIN:VEVENT
DTSTART;TZID=UTC:20240915T140000
DTEND;TZID=UTC:20240915T200000
DTSTAMP:20260421T124000
CREATED:20240814T172639Z
LAST-MODIFIED:20240814T172639Z
UID:12255-1726408800-1726430400@middleburystudioschool.org
SUMMARY:Sunday
DESCRIPTION:Open studio hours are from 2-8pm.
URL:https://middleburystudioschool.org/event/sunday-83/
CATEGORIES:Sunday
END:VEVENT
BEGIN:VEVENT
DTSTART;TZID=UTC:20240914T130000
DTEND;TZID=UTC:20240914T160000
DTSTAMP:20260421T124000
CREATED:20240814T181851Z
LAST-MODIFIED:20240814T181851Z
UID:12287-1726318800-1726329600@middleburystudioschool.org
SUMMARY:Saturday
DESCRIPTION:Open studio hours are from 1:00-4:00pm.
URL:https://middleburystudioschool.org/event/saturday-126/
CATEGORIES:Saturday
END:VEVENT
BEGIN:VEVENT
DTSTART;TZID=UTC:20240913T100000
DTEND;TZID=UTC:20240913T160000
DTSTAMP:20260421T124000
CREATED:20240814T181232Z
LAST-MODIFIED:20240814T181232Z
UID:12283-1726221600-1726243200@middleburystudioschool.org
SUMMARY:Friday
DESCRIPTION:Open studio hours are from 10am-4:00pm.
URL:https://middleburystudioschool.org/event/friday-101/
CATEGORIES:Friday
END:VEVENT
BEGIN:VEVENT
DTSTART;TZID=UTC:20240912T120000
DTEND;TZID=UTC:20240912T143000
DTSTAMP:20260421T124000
CREATED:20240814T180714Z
LAST-MODIFIED:20240814T180714Z
UID:12279-1726142400-1726151400@middleburystudioschool.org
SUMMARY:Thursday
DESCRIPTION:Open studio hours are from 12-2:30pm.
URL:https://middleburystudioschool.org/event/thursday-126/
CATEGORIES:Thursday
END:VEVENT
BEGIN:VEVENT
DTSTART;TZID=UTC:20240911T180000
DTEND;TZID=UTC:20240911T203000
DTSTAMP:20260421T124000
CREATED:20240814T175954Z
LAST-MODIFIED:20240814T180349Z
UID:12275-1726077600-1726086600@middleburystudioschool.org
SUMMARY:Wednesday - Session 2
DESCRIPTION:Open studio hours are from 6-8:30pm.
URL:https://middleburystudioschool.org/event/wednesday-session-2-115/
CATEGORIES:Wednesday
END:VEVENT
BEGIN:VEVENT
DTSTART;TZID=UTC:20240911T090000
DTEND;TZID=UTC:20240911T120000
DTSTAMP:20260421T124000
CREATED:20240814T175217Z
LAST-MODIFIED:20240814T175217Z
UID:12271-1726045200-1726056000@middleburystudioschool.org
SUMMARY:Wednesday - Session 1
DESCRIPTION:Open studio hours are from 9am-12pm.
URL:https://middleburystudioschool.org/event/wednesday-session-1-113/
CATEGORIES:Wednesday
END:VEVENT
BEGIN:VEVENT
DTSTART;TZID=UTC:20240910T180000
DTEND;TZID=UTC:20240910T203000
DTSTAMP:20260421T124000
CREATED:20240814T174143Z
LAST-MODIFIED:20240814T174143Z
UID:12265-1725991200-1726000200@middleburystudioschool.org
SUMMARY:Tuesday
DESCRIPTION:Open studio hours are from 6-8:30pm.
URL:https://middleburystudioschool.org/event/tuesday-119/
CATEGORIES:Tuesday
END:VEVENT
BEGIN:VEVENT
DTSTART;TZID=UTC:20240908T140000
DTEND;TZID=UTC:20240908T200000
DTSTAMP:20260421T124000
CREATED:20240814T172549Z
LAST-MODIFIED:20240814T172549Z
UID:12254-1725804000-1725825600@middleburystudioschool.org
SUMMARY:Sunday
DESCRIPTION:Open studio hours are from 2-8pm.
URL:https://middleburystudioschool.org/event/sunday-82/
CATEGORIES:Sunday
END:VEVENT
BEGIN:VEVENT
DTSTART;TZID=UTC:20240907T130000
DTEND;TZID=UTC:20240907T160000
DTSTAMP:20260421T124000
CREATED:20240814T181624Z
LAST-MODIFIED:20240814T181624Z
UID:12286-1725714000-1725724800@middleburystudioschool.org
SUMMARY:Saturday
DESCRIPTION:Open studio hours are from 1-4:00pm.
URL:https://middleburystudioschool.org/event/saturday-125/
CATEGORIES:Saturday
END:VEVENT
BEGIN:VEVENT
DTSTART;TZID=UTC:20240906T100000
DTEND;TZID=UTC:20240906T160000
DTSTAMP:20260421T124000
CREATED:20240814T181138Z
LAST-MODIFIED:20240814T181138Z
UID:12282-1725616800-1725638400@middleburystudioschool.org
SUMMARY:Friday
DESCRIPTION:Open studio hours are from 10am-4:00pm.
URL:https://middleburystudioschool.org/event/friday-100/
CATEGORIES:Friday
END:VEVENT
BEGIN:VEVENT
DTSTART;TZID=UTC:20240905T120000
DTEND;TZID=UTC:20240905T143000
DTSTAMP:20260421T124000
CREATED:20240814T180615Z
LAST-MODIFIED:20240814T180615Z
UID:12278-1725537600-1725546600@middleburystudioschool.org
SUMMARY:Thursday
DESCRIPTION:Open studio hours are from 12-2:30pm.
URL:https://middleburystudioschool.org/event/thursday-125/
CATEGORIES:Thursday
END:VEVENT
BEGIN:VEVENT
DTSTART;TZID=UTC:20240904T180000
DTEND;TZID=UTC:20240904T203000
DTSTAMP:20260421T124000
CREATED:20240814T175619Z
LAST-MODIFIED:20240814T180433Z
UID:12274-1725472800-1725481800@middleburystudioschool.org
SUMMARY:Wednesday - Session 2
DESCRIPTION:Open studio hours are from 6-8:30pm.
URL:https://middleburystudioschool.org/event/wednesday-session-2-114/
CATEGORIES:Wednesday
END:VEVENT
BEGIN:VEVENT
DTSTART;TZID=UTC:20240904T090000
DTEND;TZID=UTC:20240904T120000
DTSTAMP:20260421T124000
CREATED:20240814T175107Z
LAST-MODIFIED:20240814T175107Z
UID:12270-1725440400-1725451200@middleburystudioschool.org
SUMMARY:Wednesday - Session 1
DESCRIPTION:Open studio hours are from 9am-12pm.
URL:https://middleburystudioschool.org/event/wednesday-session-1-112/
CATEGORIES:Wednesday
END:VEVENT
BEGIN:VEVENT
DTSTART;TZID=UTC:20240903T180000
DTEND;TZID=UTC:20240903T203000
DTSTAMP:20260421T124000
CREATED:20240814T174052Z
LAST-MODIFIED:20240814T174052Z
UID:12264-1725386400-1725395400@middleburystudioschool.org
SUMMARY:Tuesday
DESCRIPTION:Open studio hours are from 6-8:30pm.
URL:https://middleburystudioschool.org/event/tuesday-118/
CATEGORIES:Tuesday
END:VEVENT
BEGIN:VEVENT
DTSTART;VALUE=DATE:20240902
DTEND;VALUE=DATE:20240903
DTSTAMP:20260421T124000
CREATED:20240814T173038Z
LAST-MODIFIED:20240826T013300Z
UID:12258-1725235200-1725321599@middleburystudioschool.org
SUMMARY:Labor Day - No Studio Hours
DESCRIPTION:Open studio hours are from 10am-12pm.
URL:https://middleburystudioschool.org/event/monday-107/
CATEGORIES:Monday
END:VEVENT
BEGIN:VEVENT
DTSTART;TZID=UTC:20240901T140000
DTEND;TZID=UTC:20240901T200000
DTSTAMP:20260421T124000
CREATED:20240814T172455Z
LAST-MODIFIED:20240814T172455Z
UID:12253-1725199200-1725220800@middleburystudioschool.org
SUMMARY:Sunday
DESCRIPTION:Open studio hours are from 2-8pm.
URL:https://middleburystudioschool.org/event/sunday-81/
CATEGORIES:Sunday
END:VEVENT
BEGIN:VEVENT
DTSTART;TZID=UTC:20240831T130000
DTEND;TZID=UTC:20240831T160000
DTSTAMP:20260421T124000
CREATED:20240724T204749Z
LAST-MODIFIED:20240724T204749Z
UID:12201-1725109200-1725120000@middleburystudioschool.org
SUMMARY:Saturday
DESCRIPTION:Open studio hours are from 1-4pm.
URL:https://middleburystudioschool.org/event/saturday-124/
CATEGORIES:Saturday
END:VEVENT
BEGIN:VEVENT
DTSTART;TZID=UTC:20240830T100000
DTEND;TZID=UTC:20240830T160000
DTSTAMP:20260421T124000
CREATED:20240724T204115Z
LAST-MODIFIED:20240724T204115Z
UID:12197-1725012000-1725033600@middleburystudioschool.org
SUMMARY:Friday
DESCRIPTION:Open studio hours are from 10am-4pm.
URL:https://middleburystudioschool.org/event/friday-99/
CATEGORIES:Friday
END:VEVENT
BEGIN:VEVENT
DTSTART;TZID=UTC:20240829T120000
DTEND;TZID=UTC:20240829T143000
DTSTAMP:20260421T124000
CREATED:20240724T203351Z
LAST-MODIFIED:20240724T203351Z
UID:12193-1724932800-1724941800@middleburystudioschool.org
SUMMARY:Thursday
DESCRIPTION:Open studio hours are from 12-2:30pm.
URL:https://middleburystudioschool.org/event/thursday-124/
CATEGORIES:Thursday
END:VEVENT
BEGIN:VEVENT
DTSTART;TZID=UTC:20240828T180000
DTEND;TZID=UTC:20240828T203000
DTSTAMP:20260421T124000
CREATED:20240724T202808Z
LAST-MODIFIED:20240724T202808Z
UID:12189-1724868000-1724877000@middleburystudioschool.org
SUMMARY:Wednesday - Session 2
DESCRIPTION:Open studio hours are from 6-8:30pm.
URL:https://middleburystudioschool.org/event/wednesday-session-2-113/
CATEGORIES:Wednesday
END:VEVENT
END:VCALENDAR